BEGIN:VCALENDAR
VERSION:2.0
PRODID:-//Church of the Epiphany - ECPv6.15.20//NONSGML v1.0//EN
CALSCALE:GREGORIAN
METHOD:PUBLISH
X-WR-CALNAME:Church of the Epiphany
X-ORIGINAL-URL:https://epiphanynyc.org
X-WR-CALDESC:Events for Church of the Epiphany
REFRESH-INTERVAL;VALUE=DURATION:PT1H
X-Robots-Tag:noindex
X-PUBLISHED-TTL:PT1H
BEGIN:VTIMEZONE
TZID:UTC
BEGIN:STANDARD
TZOFFSETFROM:+0000
TZOFFSETTO:+0000
TZNAME:UTC
DTSTART:20210101T000000
END:STANDARD
END:VTIMEZONE
BEGIN:VEVENT
DTSTART;TZID=UTC:20220803T180000
DTEND;TZID=UTC:20220803T193000
DTSTAMP:20260423T172932
CREATED:20220630T234655Z
LAST-MODIFIED:20230310T201033Z
UID:10000239-1659549600-1659555000@epiphanynyc.org
SUMMARY:Wednesday Night Dinner Program
DESCRIPTION:
URL:https://epiphanynyc.org/event/wednesday-night-dinner-program-2022-07-20/2022-08-03/
CATEGORIES:Featured Event
ATTACH;FMTTYPE=image/jpeg:https://epiphanynyc.org/wp-content/uploads/2022/06/card-image-1.jpg
END:VEVENT
BEGIN:VEVENT
DTSTART;TZID=UTC:20220810T180000
DTEND;TZID=UTC:20220810T193000
DTSTAMP:20260423T172932
CREATED:20220630T234655Z
LAST-MODIFIED:20230310T201033Z
UID:10000240-1660154400-1660159800@epiphanynyc.org
SUMMARY:Wednesday Night Dinner Program
DESCRIPTION:
URL:https://epiphanynyc.org/event/wednesday-night-dinner-program-2022-07-20/2022-08-10/
CATEGORIES:Featured Event
ATTACH;FMTTYPE=image/jpeg:https://epiphanynyc.org/wp-content/uploads/2022/06/card-image-1.jpg
END:VEVENT
BEGIN:VEVENT
DTSTART;TZID=UTC:20220817T180000
DTEND;TZID=UTC:20220817T193000
DTSTAMP:20260423T172933
CREATED:20220630T234655Z
LAST-MODIFIED:20230310T201033Z
UID:10000241-1660759200-1660764600@epiphanynyc.org
SUMMARY:Wednesday Night Dinner Program
DESCRIPTION:
URL:https://epiphanynyc.org/event/wednesday-night-dinner-program-2022-07-20/2022-08-17/
CATEGORIES:Featured Event
ATTACH;FMTTYPE=image/jpeg:https://epiphanynyc.org/wp-content/uploads/2022/06/card-image-1.jpg
END:VEVENT
BEGIN:VEVENT
DTSTART;TZID=UTC:20220824T180000
DTEND;TZID=UTC:20220824T193000
DTSTAMP:20260423T172933
CREATED:20220630T234655Z
LAST-MODIFIED:20230310T201033Z
UID:10000242-1661364000-1661369400@epiphanynyc.org
SUMMARY:Wednesday Night Dinner Program
DESCRIPTION:
URL:https://epiphanynyc.org/event/wednesday-night-dinner-program-2022-07-20/2022-08-24/
CATEGORIES:Featured Event
ATTACH;FMTTYPE=image/jpeg:https://epiphanynyc.org/wp-content/uploads/2022/06/card-image-1.jpg
END:VEVENT
BEGIN:VEVENT
DTSTART;TZID=UTC:20220831T180000
DTEND;TZID=UTC:20220831T193000
DTSTAMP:20260423T172933
CREATED:20220630T234655Z
LAST-MODIFIED:20230310T201033Z
UID:10000243-1661968800-1661974200@epiphanynyc.org
SUMMARY:Wednesday Night Dinner Program
DESCRIPTION:
URL:https://epiphanynyc.org/event/wednesday-night-dinner-program-2022-07-20/2022-08-31/
CATEGORIES:Featured Event
ATTACH;FMTTYPE=image/jpeg:https://epiphanynyc.org/wp-content/uploads/2022/06/card-image-1.jpg
END:VEVENT
END:VCALENDAR