BEGIN:VCALENDAR
VERSION:2.0
PRODID:-//Church of the Epiphany - ECPv6.15.20//NONSGML v1.0//EN
CALSCALE:GREGORIAN
METHOD:PUBLISH
X-WR-CALNAME:Church of the Epiphany
X-ORIGINAL-URL:https://epiphanynyc.org
X-WR-CALDESC:Events for Church of the Epiphany
REFRESH-INTERVAL;VALUE=DURATION:PT1H
X-Robots-Tag:noindex
X-PUBLISHED-TTL:PT1H
BEGIN:VTIMEZONE
TZID:UTC
BEGIN:STANDARD
TZOFFSETFROM:+0000
TZOFFSETTO:+0000
TZNAME:UTC
DTSTART:20220101T000000
END:STANDARD
END:VTIMEZONE
BEGIN:VTIMEZONE
TZID:America/Halifax
BEGIN:DAYLIGHT
TZOFFSETFROM:-0400
TZOFFSETTO:-0300
TZNAME:ADT
DTSTART:20220313T060000
END:DAYLIGHT
BEGIN:STANDARD
TZOFFSETFROM:-0300
TZOFFSETTO:-0400
TZNAME:AST
DTSTART:20221106T050000
END:STANDARD
BEGIN:DAYLIGHT
TZOFFSETFROM:-0400
TZOFFSETTO:-0300
TZNAME:ADT
DTSTART:20230312T060000
END:DAYLIGHT
BEGIN:STANDARD
TZOFFSETFROM:-0300
TZOFFSETTO:-0400
TZNAME:AST
DTSTART:20231105T050000
END:STANDARD
BEGIN:DAYLIGHT
TZOFFSETFROM:-0400
TZOFFSETTO:-0300
TZNAME:ADT
DTSTART:20240310T060000
END:DAYLIGHT
BEGIN:STANDARD
TZOFFSETFROM:-0300
TZOFFSETTO:-0400
TZNAME:AST
DTSTART:20241103T050000
END:STANDARD
END:VTIMEZONE
BEGIN:VEVENT
DTSTART;TZID=UTC:20230111T180000
DTEND;TZID=UTC:20230111T193000
DTSTAMP:20260420T174046
CREATED:20221115T173824Z
LAST-MODIFIED:20230809T202241Z
UID:10000262-1673460000-1673465400@epiphanynyc.org
SUMMARY:Wednesday Night Dinner Program
DESCRIPTION:
URL:https://epiphanynyc.org/event/wednesday-night-dinner-program-2022-07-20-2/2023-01-11/
CATEGORIES:Featured Event
ATTACH;FMTTYPE=image/jpeg:https://epiphanynyc.org/wp-content/uploads/2022/06/card-image-1.jpg
END:VEVENT
BEGIN:VEVENT
DTSTART;TZID=UTC:20230118T180000
DTEND;TZID=UTC:20230118T193000
DTSTAMP:20260420T174046
CREATED:20221115T173824Z
LAST-MODIFIED:20230809T202241Z
UID:10000263-1674064800-1674070200@epiphanynyc.org
SUMMARY:Wednesday Night Dinner Program
DESCRIPTION:
URL:https://epiphanynyc.org/event/wednesday-night-dinner-program-2022-07-20-2/2023-01-18/
CATEGORIES:Featured Event
ATTACH;FMTTYPE=image/jpeg:https://epiphanynyc.org/wp-content/uploads/2022/06/card-image-1.jpg
END:VEVENT
BEGIN:VEVENT
DTSTART;TZID=America/Halifax:20230122T120000
DTEND;TZID=America/Halifax:20230122T133000
DTSTAMP:20260420T174046
CREATED:20230111T180307Z
LAST-MODIFIED:20230112T181708Z
UID:10000485-1674388800-1674394200@epiphanynyc.org
SUMMARY:The Church of the Epiphany Annual Meeting
DESCRIPTION:
URL:https://epiphanynyc.org/event/the-church-of-the-epiphany-annual-meeting/
LOCATION:351 e 74st
CATEGORIES:Featured Event
END:VEVENT
BEGIN:VEVENT
DTSTART;TZID=UTC:20230125T180000
DTEND;TZID=UTC:20230125T193000
DTSTAMP:20260420T174046
CREATED:20221115T173824Z
LAST-MODIFIED:20230809T202241Z
UID:10000264-1674669600-1674675000@epiphanynyc.org
SUMMARY:Wednesday Night Dinner Program
DESCRIPTION:
URL:https://epiphanynyc.org/event/wednesday-night-dinner-program-2022-07-20-2/2023-01-25/
CATEGORIES:Featured Event
ATTACH;FMTTYPE=image/jpeg:https://epiphanynyc.org/wp-content/uploads/2022/06/card-image-1.jpg
END:VEVENT
END:VCALENDAR