BEGIN:VCALENDAR
VERSION:2.0
PRODID:-//Church of the Epiphany - ECPv6.15.20//NONSGML v1.0//EN
CALSCALE:GREGORIAN
METHOD:PUBLISH
X-WR-CALNAME:Church of the Epiphany
X-ORIGINAL-URL:https://epiphanynyc.org
X-WR-CALDESC:Events for Church of the Epiphany
REFRESH-INTERVAL;VALUE=DURATION:PT1H
X-Robots-Tag:noindex
X-PUBLISHED-TTL:PT1H
BEGIN:VTIMEZONE
TZID:UTC
BEGIN:STANDARD
TZOFFSETFROM:+0000
TZOFFSETTO:+0000
TZNAME:UTC
DTSTART:20220101T000000
END:STANDARD
END:VTIMEZONE
BEGIN:VTIMEZONE
TZID:America/Halifax
BEGIN:DAYLIGHT
TZOFFSETFROM:-0400
TZOFFSETTO:-0300
TZNAME:ADT
DTSTART:20220313T060000
END:DAYLIGHT
BEGIN:STANDARD
TZOFFSETFROM:-0300
TZOFFSETTO:-0400
TZNAME:AST
DTSTART:20221106T050000
END:STANDARD
BEGIN:DAYLIGHT
TZOFFSETFROM:-0400
TZOFFSETTO:-0300
TZNAME:ADT
DTSTART:20230312T060000
END:DAYLIGHT
BEGIN:STANDARD
TZOFFSETFROM:-0300
TZOFFSETTO:-0400
TZNAME:AST
DTSTART:20231105T050000
END:STANDARD
BEGIN:DAYLIGHT
TZOFFSETFROM:-0400
TZOFFSETTO:-0300
TZNAME:ADT
DTSTART:20240310T060000
END:DAYLIGHT
BEGIN:STANDARD
TZOFFSETFROM:-0300
TZOFFSETTO:-0400
TZNAME:AST
DTSTART:20241103T050000
END:STANDARD
END:VTIMEZONE
BEGIN:VEVENT
DTSTART;TZID=UTC:20230503T180000
DTEND;TZID=UTC:20230503T193000
DTSTAMP:20260420T161052
CREATED:20221115T173824Z
LAST-MODIFIED:20230809T202241Z
UID:10000278-1683136800-1683142200@epiphanynyc.org
SUMMARY:Wednesday Night Dinner Program
DESCRIPTION:
URL:https://epiphanynyc.org/event/wednesday-night-dinner-program-2022-07-20-2/2023-05-03/
CATEGORIES:Featured Event
ATTACH;FMTTYPE=image/jpeg:https://epiphanynyc.org/wp-content/uploads/2022/06/card-image-1.jpg
END:VEVENT
BEGIN:VEVENT
DTSTART;TZID=America/Halifax:20230510T080000
DTEND;TZID=America/Halifax:20230510T170000
DTSTAMP:20260420T161052
CREATED:20230825T151253Z
LAST-MODIFIED:20230825T151253Z
UID:10000766-1683705600-1683738000@epiphanynyc.org
SUMMARY:
DESCRIPTION:
URL:https://epiphanynyc.org/event/2563/
CATEGORIES:Featured Event
END:VEVENT
BEGIN:VEVENT
DTSTART;TZID=UTC:20230510T180000
DTEND;TZID=UTC:20230510T193000
DTSTAMP:20260420T161052
CREATED:20221115T173824Z
LAST-MODIFIED:20230809T202241Z
UID:10000279-1683741600-1683747000@epiphanynyc.org
SUMMARY:Wednesday Night Dinner Program
DESCRIPTION:
URL:https://epiphanynyc.org/event/wednesday-night-dinner-program-2022-07-20-2/2023-05-10/
CATEGORIES:Featured Event
ATTACH;FMTTYPE=image/jpeg:https://epiphanynyc.org/wp-content/uploads/2022/06/card-image-1.jpg
END:VEVENT
BEGIN:VEVENT
DTSTART;TZID=UTC:20230517T180000
DTEND;TZID=UTC:20230517T193000
DTSTAMP:20260420T161052
CREATED:20221115T173824Z
LAST-MODIFIED:20230809T202241Z
UID:10000280-1684346400-1684351800@epiphanynyc.org
SUMMARY:Wednesday Night Dinner Program
DESCRIPTION:
URL:https://epiphanynyc.org/event/wednesday-night-dinner-program-2022-07-20-2/2023-05-17/
CATEGORIES:Featured Event
ATTACH;FMTTYPE=image/jpeg:https://epiphanynyc.org/wp-content/uploads/2022/06/card-image-1.jpg
END:VEVENT
BEGIN:VEVENT
DTSTART;TZID=UTC:20230524T180000
DTEND;TZID=UTC:20230524T193000
DTSTAMP:20260420T161052
CREATED:20221115T173824Z
LAST-MODIFIED:20230809T202241Z
UID:10000281-1684951200-1684956600@epiphanynyc.org
SUMMARY:Wednesday Night Dinner Program
DESCRIPTION:
URL:https://epiphanynyc.org/event/wednesday-night-dinner-program-2022-07-20-2/2023-05-24/
CATEGORIES:Featured Event
ATTACH;FMTTYPE=image/jpeg:https://epiphanynyc.org/wp-content/uploads/2022/06/card-image-1.jpg
END:VEVENT
BEGIN:VEVENT
DTSTART;TZID=UTC:20230531T180000
DTEND;TZID=UTC:20230531T193000
DTSTAMP:20260420T161052
CREATED:20221115T173824Z
LAST-MODIFIED:20230809T202241Z
UID:10000282-1685556000-1685561400@epiphanynyc.org
SUMMARY:Wednesday Night Dinner Program
DESCRIPTION:
URL:https://epiphanynyc.org/event/wednesday-night-dinner-program-2022-07-20-2/2023-05-31/
CATEGORIES:Featured Event
ATTACH;FMTTYPE=image/jpeg:https://epiphanynyc.org/wp-content/uploads/2022/06/card-image-1.jpg
END:VEVENT
END:VCALENDAR