BEGIN:VCALENDAR
VERSION:2.0
PRODID:-//Church of the Epiphany - ECPv6.15.20//NONSGML v1.0//EN
CALSCALE:GREGORIAN
METHOD:PUBLISH
X-ORIGINAL-URL:https://epiphanynyc.org
X-WR-CALDESC:Events for Church of the Epiphany
REFRESH-INTERVAL;VALUE=DURATION:PT1H
X-Robots-Tag:noindex
X-PUBLISHED-TTL:PT1H
BEGIN:VTIMEZONE
TZID:UTC
BEGIN:STANDARD
TZOFFSETFROM:+0000
TZOFFSETTO:+0000
TZNAME:UTC
DTSTART:20210101T000000
END:STANDARD
END:VTIMEZONE
BEGIN:VEVENT
DTSTART;TZID=UTC:20220904T120000
DTEND;TZID=UTC:20220904T140000
DTSTAMP:20260423T205449
CREATED:20220630T234757Z
LAST-MODIFIED:20220830T165413Z
UID:10000448-1662292800-1662300000@epiphanynyc.org
SUMMARY:Epiphany Talks Continues!
DESCRIPTION:Epiphany Talks\, our adult formation series\, resumes for the 2021-2022 Program Year\, beginning with the reading and discussion of The Church Cracked Open\, by the Rev. Canon Stephanie Spellers.
URL:https://epiphanynyc.org/event/epiphany-talks-continues/
CATEGORIES:Featured Event
ATTACH;FMTTYPE=image/jpeg:https://epiphanynyc.org/wp-content/uploads/2022/06/card-image-2.jpg
END:VEVENT
END:VCALENDAR