BEGIN:VCALENDAR
VERSION:2.0
PRODID:-//Church of the Epiphany - ECPv6.15.20//NONSGML v1.0//EN
CALSCALE:GREGORIAN
METHOD:PUBLISH
X-WR-CALNAME:Church of the Epiphany
X-ORIGINAL-URL:https://epiphanynyc.org
X-WR-CALDESC:Events for Church of the Epiphany
REFRESH-INTERVAL;VALUE=DURATION:PT1H
X-Robots-Tag:noindex
X-PUBLISHED-TTL:PT1H
BEGIN:VTIMEZONE
TZID:UTC
BEGIN:STANDARD
TZOFFSETFROM:+0000
TZOFFSETTO:+0000
TZNAME:UTC
DTSTART:20270101T000000
END:STANDARD
END:VTIMEZONE
BEGIN:VEVENT
DTSTART;TZID=UTC:20281101T180000
DTEND;TZID=UTC:20281101T193000
DTSTAMP:20260419T182421
CREATED:20241231T215607Z
LAST-MODIFIED:20241231T215628Z
UID:10000858-1856714400-1856719800@epiphanynyc.org
SUMMARY:Wednesday Night Dinner Program 2025
DESCRIPTION:
URL:https://epiphanynyc.org/event/wednesday-night-dinner-program-2022-07-20-3-2/2028-11-01/
CATEGORIES:Featured Event
ATTACH;FMTTYPE=image/jpeg:https://epiphanynyc.org/wp-content/uploads/2022/06/card-image-1.jpg
END:VEVENT
BEGIN:VEVENT
DTSTART;TZID=UTC:20281108T180000
DTEND;TZID=UTC:20281108T193000
DTSTAMP:20260419T182421
CREATED:20241231T215607Z
LAST-MODIFIED:20241231T215628Z
UID:10000859-1857319200-1857324600@epiphanynyc.org
SUMMARY:Wednesday Night Dinner Program 2025
DESCRIPTION:
URL:https://epiphanynyc.org/event/wednesday-night-dinner-program-2022-07-20-3-2/2028-11-08/
CATEGORIES:Featured Event
ATTACH;FMTTYPE=image/jpeg:https://epiphanynyc.org/wp-content/uploads/2022/06/card-image-1.jpg
END:VEVENT
BEGIN:VEVENT
DTSTART;TZID=UTC:20281115T180000
DTEND;TZID=UTC:20281115T193000
DTSTAMP:20260419T182421
CREATED:20241231T215607Z
LAST-MODIFIED:20241231T215628Z
UID:10000860-1857924000-1857929400@epiphanynyc.org
SUMMARY:Wednesday Night Dinner Program 2025
DESCRIPTION:
URL:https://epiphanynyc.org/event/wednesday-night-dinner-program-2022-07-20-3-2/2028-11-15/
CATEGORIES:Featured Event
ATTACH;FMTTYPE=image/jpeg:https://epiphanynyc.org/wp-content/uploads/2022/06/card-image-1.jpg
END:VEVENT
BEGIN:VEVENT
DTSTART;TZID=UTC:20281122T180000
DTEND;TZID=UTC:20281122T193000
DTSTAMP:20260419T182421
CREATED:20241231T215607Z
LAST-MODIFIED:20241231T215628Z
UID:10000861-1858528800-1858534200@epiphanynyc.org
SUMMARY:Wednesday Night Dinner Program 2025
DESCRIPTION:
URL:https://epiphanynyc.org/event/wednesday-night-dinner-program-2022-07-20-3-2/2028-11-22/
CATEGORIES:Featured Event
ATTACH;FMTTYPE=image/jpeg:https://epiphanynyc.org/wp-content/uploads/2022/06/card-image-1.jpg
END:VEVENT
BEGIN:VEVENT
DTSTART;TZID=UTC:20281129T180000
DTEND;TZID=UTC:20281129T193000
DTSTAMP:20260419T182421
CREATED:20241231T215607Z
LAST-MODIFIED:20241231T215628Z
UID:10000862-1859133600-1859139000@epiphanynyc.org
SUMMARY:Wednesday Night Dinner Program 2025
DESCRIPTION:
URL:https://epiphanynyc.org/event/wednesday-night-dinner-program-2022-07-20-3-2/2028-11-29/
CATEGORIES:Featured Event
ATTACH;FMTTYPE=image/jpeg:https://epiphanynyc.org/wp-content/uploads/2022/06/card-image-1.jpg
END:VEVENT
BEGIN:VEVENT
DTSTART;TZID=UTC:20281206T180000
DTEND;TZID=UTC:20281206T193000
DTSTAMP:20260419T182421
CREATED:20241231T215607Z
LAST-MODIFIED:20241231T215628Z
UID:10000863-1859738400-1859743800@epiphanynyc.org
SUMMARY:Wednesday Night Dinner Program 2025
DESCRIPTION:
URL:https://epiphanynyc.org/event/wednesday-night-dinner-program-2022-07-20-3-2/2028-12-06/
CATEGORIES:Featured Event
ATTACH;FMTTYPE=image/jpeg:https://epiphanynyc.org/wp-content/uploads/2022/06/card-image-1.jpg
END:VEVENT
BEGIN:VEVENT
DTSTART;TZID=UTC:20281213T180000
DTEND;TZID=UTC:20281213T193000
DTSTAMP:20260419T182421
CREATED:20241231T215607Z
LAST-MODIFIED:20241231T215628Z
UID:10000864-1860343200-1860348600@epiphanynyc.org
SUMMARY:Wednesday Night Dinner Program 2025
DESCRIPTION:
URL:https://epiphanynyc.org/event/wednesday-night-dinner-program-2022-07-20-3-2/2028-12-13/
CATEGORIES:Featured Event
ATTACH;FMTTYPE=image/jpeg:https://epiphanynyc.org/wp-content/uploads/2022/06/card-image-1.jpg
END:VEVENT
BEGIN:VEVENT
DTSTART;TZID=UTC:20281220T180000
DTEND;TZID=UTC:20281220T193000
DTSTAMP:20260419T182421
CREATED:20241231T215607Z
LAST-MODIFIED:20241231T215628Z
UID:10000865-1860948000-1860953400@epiphanynyc.org
SUMMARY:Wednesday Night Dinner Program 2025
DESCRIPTION:
URL:https://epiphanynyc.org/event/wednesday-night-dinner-program-2022-07-20-3-2/2028-12-20/
CATEGORIES:Featured Event
ATTACH;FMTTYPE=image/jpeg:https://epiphanynyc.org/wp-content/uploads/2022/06/card-image-1.jpg
END:VEVENT
BEGIN:VEVENT
DTSTART;TZID=UTC:20281227T180000
DTEND;TZID=UTC:20281227T193000
DTSTAMP:20260419T182421
CREATED:20241231T215607Z
LAST-MODIFIED:20241231T215628Z
UID:10000866-1861552800-1861558200@epiphanynyc.org
SUMMARY:Wednesday Night Dinner Program 2025
DESCRIPTION:
URL:https://epiphanynyc.org/event/wednesday-night-dinner-program-2022-07-20-3-2/2028-12-27/
CATEGORIES:Featured Event
ATTACH;FMTTYPE=image/jpeg:https://epiphanynyc.org/wp-content/uploads/2022/06/card-image-1.jpg
END:VEVENT
BEGIN:VEVENT
DTSTART;TZID=UTC:20290103T180000
DTEND;TZID=UTC:20290103T193000
DTSTAMP:20260419T182421
CREATED:20241231T215607Z
LAST-MODIFIED:20241231T215628Z
UID:10000867-1862157600-1862163000@epiphanynyc.org
SUMMARY:Wednesday Night Dinner Program 2025
DESCRIPTION:
URL:https://epiphanynyc.org/event/wednesday-night-dinner-program-2022-07-20-3-2/2029-01-03/
CATEGORIES:Featured Event
ATTACH;FMTTYPE=image/jpeg:https://epiphanynyc.org/wp-content/uploads/2022/06/card-image-1.jpg
END:VEVENT
BEGIN:VEVENT
DTSTART;TZID=UTC:20290110T180000
DTEND;TZID=UTC:20290110T193000
DTSTAMP:20260419T182421
CREATED:20241231T215607Z
LAST-MODIFIED:20241231T215628Z
UID:10000868-1862762400-1862767800@epiphanynyc.org
SUMMARY:Wednesday Night Dinner Program 2025
DESCRIPTION:
URL:https://epiphanynyc.org/event/wednesday-night-dinner-program-2022-07-20-3-2/2029-01-10/
CATEGORIES:Featured Event
ATTACH;FMTTYPE=image/jpeg:https://epiphanynyc.org/wp-content/uploads/2022/06/card-image-1.jpg
END:VEVENT
BEGIN:VEVENT
DTSTART;TZID=UTC:20290117T180000
DTEND;TZID=UTC:20290117T193000
DTSTAMP:20260419T182421
CREATED:20241231T215607Z
LAST-MODIFIED:20241231T215628Z
UID:10001401-1863367200-1863372600@epiphanynyc.org
SUMMARY:Wednesday Night Dinner Program 2025
DESCRIPTION:
URL:https://epiphanynyc.org/event/wednesday-night-dinner-program-2022-07-20-3-2/2029-01-17/
CATEGORIES:Featured Event
ATTACH;FMTTYPE=image/jpeg:https://epiphanynyc.org/wp-content/uploads/2022/06/card-image-1.jpg
END:VEVENT
BEGIN:VEVENT
DTSTART;TZID=UTC:20290124T180000
DTEND;TZID=UTC:20290124T193000
DTSTAMP:20260419T182421
CREATED:20241231T215607Z
LAST-MODIFIED:20241231T215628Z
UID:10001402-1863972000-1863977400@epiphanynyc.org
SUMMARY:Wednesday Night Dinner Program 2025
DESCRIPTION:
URL:https://epiphanynyc.org/event/wednesday-night-dinner-program-2022-07-20-3-2/2029-01-24/
CATEGORIES:Featured Event
ATTACH;FMTTYPE=image/jpeg:https://epiphanynyc.org/wp-content/uploads/2022/06/card-image-1.jpg
END:VEVENT
BEGIN:VEVENT
DTSTART;TZID=UTC:20290131T180000
DTEND;TZID=UTC:20290131T193000
DTSTAMP:20260419T182422
CREATED:20241231T215607Z
LAST-MODIFIED:20241231T215628Z
UID:10001403-1864576800-1864582200@epiphanynyc.org
SUMMARY:Wednesday Night Dinner Program 2025
DESCRIPTION:
URL:https://epiphanynyc.org/event/wednesday-night-dinner-program-2022-07-20-3-2/2029-01-31/
CATEGORIES:Featured Event
ATTACH;FMTTYPE=image/jpeg:https://epiphanynyc.org/wp-content/uploads/2022/06/card-image-1.jpg
END:VEVENT
BEGIN:VEVENT
DTSTART;TZID=UTC:20290207T180000
DTEND;TZID=UTC:20290207T193000
DTSTAMP:20260419T182422
CREATED:20241231T215607Z
LAST-MODIFIED:20241231T215628Z
UID:10001404-1865181600-1865187000@epiphanynyc.org
SUMMARY:Wednesday Night Dinner Program 2025
DESCRIPTION:
URL:https://epiphanynyc.org/event/wednesday-night-dinner-program-2022-07-20-3-2/2029-02-07/
CATEGORIES:Featured Event
ATTACH;FMTTYPE=image/jpeg:https://epiphanynyc.org/wp-content/uploads/2022/06/card-image-1.jpg
END:VEVENT
BEGIN:VEVENT
DTSTART;TZID=UTC:20290214T180000
DTEND;TZID=UTC:20290214T193000
DTSTAMP:20260419T182422
CREATED:20241231T215607Z
LAST-MODIFIED:20241231T215628Z
UID:10001405-1865786400-1865791800@epiphanynyc.org
SUMMARY:Wednesday Night Dinner Program 2025
DESCRIPTION:
URL:https://epiphanynyc.org/event/wednesday-night-dinner-program-2022-07-20-3-2/2029-02-14/
CATEGORIES:Featured Event
ATTACH;FMTTYPE=image/jpeg:https://epiphanynyc.org/wp-content/uploads/2022/06/card-image-1.jpg
END:VEVENT
BEGIN:VEVENT
DTSTART;TZID=UTC:20290221T180000
DTEND;TZID=UTC:20290221T193000
DTSTAMP:20260419T182422
CREATED:20241231T215607Z
LAST-MODIFIED:20241231T215628Z
UID:10001406-1866391200-1866396600@epiphanynyc.org
SUMMARY:Wednesday Night Dinner Program 2025
DESCRIPTION:
URL:https://epiphanynyc.org/event/wednesday-night-dinner-program-2022-07-20-3-2/2029-02-21/
CATEGORIES:Featured Event
ATTACH;FMTTYPE=image/jpeg:https://epiphanynyc.org/wp-content/uploads/2022/06/card-image-1.jpg
END:VEVENT
BEGIN:VEVENT
DTSTART;TZID=UTC:20290228T180000
DTEND;TZID=UTC:20290228T193000
DTSTAMP:20260419T182422
CREATED:20241231T215607Z
LAST-MODIFIED:20241231T215628Z
UID:10001407-1866996000-1867001400@epiphanynyc.org
SUMMARY:Wednesday Night Dinner Program 2025
DESCRIPTION:
URL:https://epiphanynyc.org/event/wednesday-night-dinner-program-2022-07-20-3-2/2029-02-28/
CATEGORIES:Featured Event
ATTACH;FMTTYPE=image/jpeg:https://epiphanynyc.org/wp-content/uploads/2022/06/card-image-1.jpg
END:VEVENT
BEGIN:VEVENT
DTSTART;TZID=UTC:20290307T180000
DTEND;TZID=UTC:20290307T193000
DTSTAMP:20260419T182422
CREATED:20241231T215607Z
LAST-MODIFIED:20241231T215628Z
UID:10001408-1867600800-1867606200@epiphanynyc.org
SUMMARY:Wednesday Night Dinner Program 2025
DESCRIPTION:
URL:https://epiphanynyc.org/event/wednesday-night-dinner-program-2022-07-20-3-2/2029-03-07/
CATEGORIES:Featured Event
ATTACH;FMTTYPE=image/jpeg:https://epiphanynyc.org/wp-content/uploads/2022/06/card-image-1.jpg
END:VEVENT
BEGIN:VEVENT
DTSTART;TZID=UTC:20290314T180000
DTEND;TZID=UTC:20290314T193000
DTSTAMP:20260419T182422
CREATED:20241231T215607Z
LAST-MODIFIED:20241231T215628Z
UID:10001409-1868205600-1868211000@epiphanynyc.org
SUMMARY:Wednesday Night Dinner Program 2025
DESCRIPTION:
URL:https://epiphanynyc.org/event/wednesday-night-dinner-program-2022-07-20-3-2/2029-03-14/
CATEGORIES:Featured Event
ATTACH;FMTTYPE=image/jpeg:https://epiphanynyc.org/wp-content/uploads/2022/06/card-image-1.jpg
END:VEVENT
BEGIN:VEVENT
DTSTART;TZID=UTC:20290321T180000
DTEND;TZID=UTC:20290321T193000
DTSTAMP:20260419T182422
CREATED:20241231T215607Z
LAST-MODIFIED:20241231T215628Z
UID:10001410-1868810400-1868815800@epiphanynyc.org
SUMMARY:Wednesday Night Dinner Program 2025
DESCRIPTION:
URL:https://epiphanynyc.org/event/wednesday-night-dinner-program-2022-07-20-3-2/2029-03-21/
CATEGORIES:Featured Event
ATTACH;FMTTYPE=image/jpeg:https://epiphanynyc.org/wp-content/uploads/2022/06/card-image-1.jpg
END:VEVENT
BEGIN:VEVENT
DTSTART;TZID=UTC:20290328T180000
DTEND;TZID=UTC:20290328T193000
DTSTAMP:20260419T182422
CREATED:20241231T215607Z
LAST-MODIFIED:20241231T215628Z
UID:10001411-1869415200-1869420600@epiphanynyc.org
SUMMARY:Wednesday Night Dinner Program 2025
DESCRIPTION:
URL:https://epiphanynyc.org/event/wednesday-night-dinner-program-2022-07-20-3-2/2029-03-28/
CATEGORIES:Featured Event
ATTACH;FMTTYPE=image/jpeg:https://epiphanynyc.org/wp-content/uploads/2022/06/card-image-1.jpg
END:VEVENT
BEGIN:VEVENT
DTSTART;TZID=UTC:20290404T180000
DTEND;TZID=UTC:20290404T193000
DTSTAMP:20260419T182422
CREATED:20241231T215607Z
LAST-MODIFIED:20241231T215628Z
UID:10001412-1870020000-1870025400@epiphanynyc.org
SUMMARY:Wednesday Night Dinner Program 2025
DESCRIPTION:
URL:https://epiphanynyc.org/event/wednesday-night-dinner-program-2022-07-20-3-2/2029-04-04/
CATEGORIES:Featured Event
ATTACH;FMTTYPE=image/jpeg:https://epiphanynyc.org/wp-content/uploads/2022/06/card-image-1.jpg
END:VEVENT
BEGIN:VEVENT
DTSTART;TZID=UTC:20290411T180000
DTEND;TZID=UTC:20290411T193000
DTSTAMP:20260419T182422
CREATED:20241231T215607Z
LAST-MODIFIED:20241231T215628Z
UID:10001413-1870624800-1870630200@epiphanynyc.org
SUMMARY:Wednesday Night Dinner Program 2025
DESCRIPTION:
URL:https://epiphanynyc.org/event/wednesday-night-dinner-program-2022-07-20-3-2/2029-04-11/
CATEGORIES:Featured Event
ATTACH;FMTTYPE=image/jpeg:https://epiphanynyc.org/wp-content/uploads/2022/06/card-image-1.jpg
END:VEVENT
BEGIN:VEVENT
DTSTART;TZID=UTC:20290418T180000
DTEND;TZID=UTC:20290418T193000
DTSTAMP:20260419T182422
CREATED:20241231T215607Z
LAST-MODIFIED:20241231T215628Z
UID:10001414-1871229600-1871235000@epiphanynyc.org
SUMMARY:Wednesday Night Dinner Program 2025
DESCRIPTION:
URL:https://epiphanynyc.org/event/wednesday-night-dinner-program-2022-07-20-3-2/2029-04-18/
CATEGORIES:Featured Event
ATTACH;FMTTYPE=image/jpeg:https://epiphanynyc.org/wp-content/uploads/2022/06/card-image-1.jpg
END:VEVENT
BEGIN:VEVENT
DTSTART;TZID=UTC:20290425T180000
DTEND;TZID=UTC:20290425T193000
DTSTAMP:20260419T182422
CREATED:20241231T215607Z
LAST-MODIFIED:20241231T215628Z
UID:10001415-1871834400-1871839800@epiphanynyc.org
SUMMARY:Wednesday Night Dinner Program 2025
DESCRIPTION:
URL:https://epiphanynyc.org/event/wednesday-night-dinner-program-2022-07-20-3-2/2029-04-25/
CATEGORIES:Featured Event
ATTACH;FMTTYPE=image/jpeg:https://epiphanynyc.org/wp-content/uploads/2022/06/card-image-1.jpg
END:VEVENT
BEGIN:VEVENT
DTSTART;TZID=UTC:20290502T180000
DTEND;TZID=UTC:20290502T193000
DTSTAMP:20260419T182422
CREATED:20241231T215607Z
LAST-MODIFIED:20241231T215628Z
UID:10001416-1872439200-1872444600@epiphanynyc.org
SUMMARY:Wednesday Night Dinner Program 2025
DESCRIPTION:
URL:https://epiphanynyc.org/event/wednesday-night-dinner-program-2022-07-20-3-2/2029-05-02/
CATEGORIES:Featured Event
ATTACH;FMTTYPE=image/jpeg:https://epiphanynyc.org/wp-content/uploads/2022/06/card-image-1.jpg
END:VEVENT
BEGIN:VEVENT
DTSTART;TZID=UTC:20290509T180000
DTEND;TZID=UTC:20290509T193000
DTSTAMP:20260419T182422
CREATED:20241231T215607Z
LAST-MODIFIED:20241231T215628Z
UID:10001417-1873044000-1873049400@epiphanynyc.org
SUMMARY:Wednesday Night Dinner Program 2025
DESCRIPTION:
URL:https://epiphanynyc.org/event/wednesday-night-dinner-program-2022-07-20-3-2/2029-05-09/
CATEGORIES:Featured Event
ATTACH;FMTTYPE=image/jpeg:https://epiphanynyc.org/wp-content/uploads/2022/06/card-image-1.jpg
END:VEVENT
BEGIN:VEVENT
DTSTART;TZID=UTC:20290516T180000
DTEND;TZID=UTC:20290516T193000
DTSTAMP:20260419T182422
CREATED:20241231T215607Z
LAST-MODIFIED:20241231T215628Z
UID:10001418-1873648800-1873654200@epiphanynyc.org
SUMMARY:Wednesday Night Dinner Program 2025
DESCRIPTION:
URL:https://epiphanynyc.org/event/wednesday-night-dinner-program-2022-07-20-3-2/2029-05-16/
CATEGORIES:Featured Event
ATTACH;FMTTYPE=image/jpeg:https://epiphanynyc.org/wp-content/uploads/2022/06/card-image-1.jpg
END:VEVENT
BEGIN:VEVENT
DTSTART;TZID=UTC:20290523T180000
DTEND;TZID=UTC:20290523T193000
DTSTAMP:20260419T182422
CREATED:20241231T215607Z
LAST-MODIFIED:20241231T215628Z
UID:10001419-1874253600-1874259000@epiphanynyc.org
SUMMARY:Wednesday Night Dinner Program 2025
DESCRIPTION:
URL:https://epiphanynyc.org/event/wednesday-night-dinner-program-2022-07-20-3-2/2029-05-23/
CATEGORIES:Featured Event
ATTACH;FMTTYPE=image/jpeg:https://epiphanynyc.org/wp-content/uploads/2022/06/card-image-1.jpg
END:VEVENT
END:VCALENDAR