BEGIN:VCALENDAR
VERSION:2.0
PRODID:-//Church of the Epiphany - ECPv6.15.20//NONSGML v1.0//EN
CALSCALE:GREGORIAN
METHOD:PUBLISH
X-ORIGINAL-URL:https://epiphanynyc.org
X-WR-CALDESC:Events for Church of the Epiphany
REFRESH-INTERVAL;VALUE=DURATION:PT1H
X-Robots-Tag:noindex
X-PUBLISHED-TTL:PT1H
BEGIN:VTIMEZONE
TZID:UTC
BEGIN:STANDARD
TZOFFSETFROM:+0000
TZOFFSETTO:+0000
TZNAME:UTC
DTSTART:20280101T000000
END:STANDARD
END:VTIMEZONE
BEGIN:VEVENT
DTSTART;TZID=UTC:20291003T180000
DTEND;TZID=UTC:20291003T193000
DTSTAMP:20260420T061924
CREATED:20241231T215607Z
LAST-MODIFIED:20241231T215628Z
UID:10001438-1885744800-1885750200@epiphanynyc.org
SUMMARY:Wednesday Night Dinner Program 2025
DESCRIPTION:
URL:https://epiphanynyc.org/event/wednesday-night-dinner-program-2022-07-20-3-2/2029-10-03/
CATEGORIES:Featured Event
ATTACH;FMTTYPE=image/jpeg:https://epiphanynyc.org/wp-content/uploads/2022/06/card-image-1.jpg
END:VEVENT
BEGIN:VEVENT
DTSTART;TZID=UTC:20291010T180000
DTEND;TZID=UTC:20291010T193000
DTSTAMP:20260420T061924
CREATED:20241231T215607Z
LAST-MODIFIED:20241231T215628Z
UID:10001439-1886349600-1886355000@epiphanynyc.org
SUMMARY:Wednesday Night Dinner Program 2025
DESCRIPTION:
URL:https://epiphanynyc.org/event/wednesday-night-dinner-program-2022-07-20-3-2/2029-10-10/
CATEGORIES:Featured Event
ATTACH;FMTTYPE=image/jpeg:https://epiphanynyc.org/wp-content/uploads/2022/06/card-image-1.jpg
END:VEVENT
BEGIN:VEVENT
DTSTART;TZID=UTC:20291017T180000
DTEND;TZID=UTC:20291017T193000
DTSTAMP:20260420T061924
CREATED:20241231T215607Z
LAST-MODIFIED:20241231T215628Z
UID:10001440-1886954400-1886959800@epiphanynyc.org
SUMMARY:Wednesday Night Dinner Program 2025
DESCRIPTION:
URL:https://epiphanynyc.org/event/wednesday-night-dinner-program-2022-07-20-3-2/2029-10-17/
CATEGORIES:Featured Event
ATTACH;FMTTYPE=image/jpeg:https://epiphanynyc.org/wp-content/uploads/2022/06/card-image-1.jpg
END:VEVENT
BEGIN:VEVENT
DTSTART;TZID=UTC:20291024T180000
DTEND;TZID=UTC:20291024T193000
DTSTAMP:20260420T061924
CREATED:20241231T215607Z
LAST-MODIFIED:20241231T215628Z
UID:10001441-1887559200-1887564600@epiphanynyc.org
SUMMARY:Wednesday Night Dinner Program 2025
DESCRIPTION:
URL:https://epiphanynyc.org/event/wednesday-night-dinner-program-2022-07-20-3-2/2029-10-24/
CATEGORIES:Featured Event
ATTACH;FMTTYPE=image/jpeg:https://epiphanynyc.org/wp-content/uploads/2022/06/card-image-1.jpg
END:VEVENT
BEGIN:VEVENT
DTSTART;TZID=UTC:20291031T180000
DTEND;TZID=UTC:20291031T193000
DTSTAMP:20260420T061924
CREATED:20241231T215607Z
LAST-MODIFIED:20241231T215628Z
UID:10001442-1888164000-1888169400@epiphanynyc.org
SUMMARY:Wednesday Night Dinner Program 2025
DESCRIPTION:
URL:https://epiphanynyc.org/event/wednesday-night-dinner-program-2022-07-20-3-2/2029-10-31/
CATEGORIES:Featured Event
ATTACH;FMTTYPE=image/jpeg:https://epiphanynyc.org/wp-content/uploads/2022/06/card-image-1.jpg
END:VEVENT
BEGIN:VEVENT
DTSTART;TZID=UTC:20291107T180000
DTEND;TZID=UTC:20291107T193000
DTSTAMP:20260420T061924
CREATED:20241231T215607Z
LAST-MODIFIED:20241231T215628Z
UID:10001443-1888768800-1888774200@epiphanynyc.org
SUMMARY:Wednesday Night Dinner Program 2025
DESCRIPTION:
URL:https://epiphanynyc.org/event/wednesday-night-dinner-program-2022-07-20-3-2/2029-11-07/
CATEGORIES:Featured Event
ATTACH;FMTTYPE=image/jpeg:https://epiphanynyc.org/wp-content/uploads/2022/06/card-image-1.jpg
END:VEVENT
BEGIN:VEVENT
DTSTART;TZID=UTC:20291114T180000
DTEND;TZID=UTC:20291114T193000
DTSTAMP:20260420T061924
CREATED:20241231T215607Z
LAST-MODIFIED:20241231T215628Z
UID:10001444-1889373600-1889379000@epiphanynyc.org
SUMMARY:Wednesday Night Dinner Program 2025
DESCRIPTION:
URL:https://epiphanynyc.org/event/wednesday-night-dinner-program-2022-07-20-3-2/2029-11-14/
CATEGORIES:Featured Event
ATTACH;FMTTYPE=image/jpeg:https://epiphanynyc.org/wp-content/uploads/2022/06/card-image-1.jpg
END:VEVENT
BEGIN:VEVENT
DTSTART;TZID=UTC:20291121T180000
DTEND;TZID=UTC:20291121T193000
DTSTAMP:20260420T061924
CREATED:20241231T215607Z
LAST-MODIFIED:20241231T215628Z
UID:10001445-1889978400-1889983800@epiphanynyc.org
SUMMARY:Wednesday Night Dinner Program 2025
DESCRIPTION:
URL:https://epiphanynyc.org/event/wednesday-night-dinner-program-2022-07-20-3-2/2029-11-21/
CATEGORIES:Featured Event
ATTACH;FMTTYPE=image/jpeg:https://epiphanynyc.org/wp-content/uploads/2022/06/card-image-1.jpg
END:VEVENT
BEGIN:VEVENT
DTSTART;TZID=UTC:20291128T180000
DTEND;TZID=UTC:20291128T193000
DTSTAMP:20260420T061924
CREATED:20241231T215607Z
LAST-MODIFIED:20241231T215628Z
UID:10001446-1890583200-1890588600@epiphanynyc.org
SUMMARY:Wednesday Night Dinner Program 2025
DESCRIPTION:
URL:https://epiphanynyc.org/event/wednesday-night-dinner-program-2022-07-20-3-2/2029-11-28/
CATEGORIES:Featured Event
ATTACH;FMTTYPE=image/jpeg:https://epiphanynyc.org/wp-content/uploads/2022/06/card-image-1.jpg
END:VEVENT
BEGIN:VEVENT
DTSTART;TZID=UTC:20291205T180000
DTEND;TZID=UTC:20291205T193000
DTSTAMP:20260420T061924
CREATED:20241231T215607Z
LAST-MODIFIED:20241231T215628Z
UID:10001447-1891188000-1891193400@epiphanynyc.org
SUMMARY:Wednesday Night Dinner Program 2025
DESCRIPTION:
URL:https://epiphanynyc.org/event/wednesday-night-dinner-program-2022-07-20-3-2/2029-12-05/
CATEGORIES:Featured Event
ATTACH;FMTTYPE=image/jpeg:https://epiphanynyc.org/wp-content/uploads/2022/06/card-image-1.jpg
END:VEVENT
BEGIN:VEVENT
DTSTART;TZID=UTC:20291212T180000
DTEND;TZID=UTC:20291212T193000
DTSTAMP:20260420T061924
CREATED:20241231T215607Z
LAST-MODIFIED:20241231T215628Z
UID:10001448-1891792800-1891798200@epiphanynyc.org
SUMMARY:Wednesday Night Dinner Program 2025
DESCRIPTION:
URL:https://epiphanynyc.org/event/wednesday-night-dinner-program-2022-07-20-3-2/2029-12-12/
CATEGORIES:Featured Event
ATTACH;FMTTYPE=image/jpeg:https://epiphanynyc.org/wp-content/uploads/2022/06/card-image-1.jpg
END:VEVENT
BEGIN:VEVENT
DTSTART;TZID=UTC:20291219T180000
DTEND;TZID=UTC:20291219T193000
DTSTAMP:20260420T061925
CREATED:20241231T215607Z
LAST-MODIFIED:20241231T215628Z
UID:10001449-1892397600-1892403000@epiphanynyc.org
SUMMARY:Wednesday Night Dinner Program 2025
DESCRIPTION:
URL:https://epiphanynyc.org/event/wednesday-night-dinner-program-2022-07-20-3-2/2029-12-19/
CATEGORIES:Featured Event
ATTACH;FMTTYPE=image/jpeg:https://epiphanynyc.org/wp-content/uploads/2022/06/card-image-1.jpg
END:VEVENT
BEGIN:VEVENT
DTSTART;TZID=UTC:20291226T180000
DTEND;TZID=UTC:20291226T193000
DTSTAMP:20260420T061925
CREATED:20241231T215607Z
LAST-MODIFIED:20241231T215628Z
UID:10001450-1893002400-1893007800@epiphanynyc.org
SUMMARY:Wednesday Night Dinner Program 2025
DESCRIPTION:
URL:https://epiphanynyc.org/event/wednesday-night-dinner-program-2022-07-20-3-2/2029-12-26/
CATEGORIES:Featured Event
ATTACH;FMTTYPE=image/jpeg:https://epiphanynyc.org/wp-content/uploads/2022/06/card-image-1.jpg
END:VEVENT
END:VCALENDAR