BEGIN:VCALENDAR
VERSION:2.0
PRODID:-//Church of the Epiphany - ECPv6.15.20//NONSGML v1.0//EN
CALSCALE:GREGORIAN
METHOD:PUBLISH
X-WR-CALNAME:Church of the Epiphany
X-ORIGINAL-URL:https://epiphanynyc.org
X-WR-CALDESC:Events for Church of the Epiphany
REFRESH-INTERVAL;VALUE=DURATION:PT1H
X-Robots-Tag:noindex
X-PUBLISHED-TTL:PT1H
BEGIN:VTIMEZONE
TZID:UTC
BEGIN:STANDARD
TZOFFSETFROM:+0000
TZOFFSETTO:+0000
TZNAME:UTC
DTSTART:20250101T000000
END:STANDARD
END:VTIMEZONE
BEGIN:VEVENT
DTSTART;TZID=UTC:20260708T180000
DTEND;TZID=UTC:20260708T193000
DTSTAMP:20260415T180233
CREATED:20241231T215607Z
LAST-MODIFIED:20241231T215628Z
UID:10000669-1783533600-1783539000@epiphanynyc.org
SUMMARY:Wednesday Night Dinner Program 2025
DESCRIPTION:
URL:https://epiphanynyc.org/event/wednesday-night-dinner-program-2022-07-20-3-2/2026-07-08/
CATEGORIES:Featured Event
ATTACH;FMTTYPE=image/jpeg:https://epiphanynyc.org/wp-content/uploads/2022/06/card-image-1.jpg
END:VEVENT
BEGIN:VEVENT
DTSTART;TZID=UTC:20260715T180000
DTEND;TZID=UTC:20260715T193000
DTSTAMP:20260415T180233
CREATED:20241231T215607Z
LAST-MODIFIED:20241231T215628Z
UID:10000670-1784138400-1784143800@epiphanynyc.org
SUMMARY:Wednesday Night Dinner Program 2025
DESCRIPTION:
URL:https://epiphanynyc.org/event/wednesday-night-dinner-program-2022-07-20-3-2/2026-07-15/
CATEGORIES:Featured Event
ATTACH;FMTTYPE=image/jpeg:https://epiphanynyc.org/wp-content/uploads/2022/06/card-image-1.jpg
END:VEVENT
BEGIN:VEVENT
DTSTART;TZID=UTC:20260722T180000
DTEND;TZID=UTC:20260722T193000
DTSTAMP:20260415T180233
CREATED:20241231T215607Z
LAST-MODIFIED:20241231T215628Z
UID:10000671-1784743200-1784748600@epiphanynyc.org
SUMMARY:Wednesday Night Dinner Program 2025
DESCRIPTION:
URL:https://epiphanynyc.org/event/wednesday-night-dinner-program-2022-07-20-3-2/2026-07-22/
CATEGORIES:Featured Event
ATTACH;FMTTYPE=image/jpeg:https://epiphanynyc.org/wp-content/uploads/2022/06/card-image-1.jpg
END:VEVENT
BEGIN:VEVENT
DTSTART;TZID=UTC:20260729T180000
DTEND;TZID=UTC:20260729T193000
DTSTAMP:20260415T180233
CREATED:20241231T215607Z
LAST-MODIFIED:20241231T215628Z
UID:10000672-1785348000-1785353400@epiphanynyc.org
SUMMARY:Wednesday Night Dinner Program 2025
DESCRIPTION:
URL:https://epiphanynyc.org/event/wednesday-night-dinner-program-2022-07-20-3-2/2026-07-29/
CATEGORIES:Featured Event
ATTACH;FMTTYPE=image/jpeg:https://epiphanynyc.org/wp-content/uploads/2022/06/card-image-1.jpg
END:VEVENT
BEGIN:VEVENT
DTSTART;TZID=UTC:20260805T180000
DTEND;TZID=UTC:20260805T193000
DTSTAMP:20260415T180233
CREATED:20241231T215607Z
LAST-MODIFIED:20241231T215628Z
UID:10000673-1785952800-1785958200@epiphanynyc.org
SUMMARY:Wednesday Night Dinner Program 2025
DESCRIPTION:
URL:https://epiphanynyc.org/event/wednesday-night-dinner-program-2022-07-20-3-2/2026-08-05/
CATEGORIES:Featured Event
ATTACH;FMTTYPE=image/jpeg:https://epiphanynyc.org/wp-content/uploads/2022/06/card-image-1.jpg
END:VEVENT
BEGIN:VEVENT
DTSTART;TZID=UTC:20260812T180000
DTEND;TZID=UTC:20260812T193000
DTSTAMP:20260415T180233
CREATED:20241231T215607Z
LAST-MODIFIED:20241231T215628Z
UID:10000674-1786557600-1786563000@epiphanynyc.org
SUMMARY:Wednesday Night Dinner Program 2025
DESCRIPTION:
URL:https://epiphanynyc.org/event/wednesday-night-dinner-program-2022-07-20-3-2/2026-08-12/
CATEGORIES:Featured Event
ATTACH;FMTTYPE=image/jpeg:https://epiphanynyc.org/wp-content/uploads/2022/06/card-image-1.jpg
END:VEVENT
BEGIN:VEVENT
DTSTART;TZID=UTC:20260819T180000
DTEND;TZID=UTC:20260819T193000
DTSTAMP:20260415T180234
CREATED:20241231T215607Z
LAST-MODIFIED:20241231T215628Z
UID:10000675-1787162400-1787167800@epiphanynyc.org
SUMMARY:Wednesday Night Dinner Program 2025
DESCRIPTION:
URL:https://epiphanynyc.org/event/wednesday-night-dinner-program-2022-07-20-3-2/2026-08-19/
CATEGORIES:Featured Event
ATTACH;FMTTYPE=image/jpeg:https://epiphanynyc.org/wp-content/uploads/2022/06/card-image-1.jpg
END:VEVENT
BEGIN:VEVENT
DTSTART;TZID=UTC:20260826T180000
DTEND;TZID=UTC:20260826T193000
DTSTAMP:20260415T180234
CREATED:20241231T215607Z
LAST-MODIFIED:20241231T215628Z
UID:10000676-1787767200-1787772600@epiphanynyc.org
SUMMARY:Wednesday Night Dinner Program 2025
DESCRIPTION:
URL:https://epiphanynyc.org/event/wednesday-night-dinner-program-2022-07-20-3-2/2026-08-26/
CATEGORIES:Featured Event
ATTACH;FMTTYPE=image/jpeg:https://epiphanynyc.org/wp-content/uploads/2022/06/card-image-1.jpg
END:VEVENT
BEGIN:VEVENT
DTSTART;TZID=UTC:20260902T180000
DTEND;TZID=UTC:20260902T193000
DTSTAMP:20260415T180234
CREATED:20241231T215607Z
LAST-MODIFIED:20241231T215628Z
UID:10000677-1788372000-1788377400@epiphanynyc.org
SUMMARY:Wednesday Night Dinner Program 2025
DESCRIPTION:
URL:https://epiphanynyc.org/event/wednesday-night-dinner-program-2022-07-20-3-2/2026-09-02/
CATEGORIES:Featured Event
ATTACH;FMTTYPE=image/jpeg:https://epiphanynyc.org/wp-content/uploads/2022/06/card-image-1.jpg
END:VEVENT
BEGIN:VEVENT
DTSTART;TZID=UTC:20260909T180000
DTEND;TZID=UTC:20260909T193000
DTSTAMP:20260415T180234
CREATED:20241231T215607Z
LAST-MODIFIED:20241231T215628Z
UID:10000678-1788976800-1788982200@epiphanynyc.org
SUMMARY:Wednesday Night Dinner Program 2025
DESCRIPTION:
URL:https://epiphanynyc.org/event/wednesday-night-dinner-program-2022-07-20-3-2/2026-09-09/
CATEGORIES:Featured Event
ATTACH;FMTTYPE=image/jpeg:https://epiphanynyc.org/wp-content/uploads/2022/06/card-image-1.jpg
END:VEVENT
BEGIN:VEVENT
DTSTART;TZID=UTC:20260916T180000
DTEND;TZID=UTC:20260916T193000
DTSTAMP:20260415T180234
CREATED:20241231T215607Z
LAST-MODIFIED:20241231T215628Z
UID:10000679-1789581600-1789587000@epiphanynyc.org
SUMMARY:Wednesday Night Dinner Program 2025
DESCRIPTION:
URL:https://epiphanynyc.org/event/wednesday-night-dinner-program-2022-07-20-3-2/2026-09-16/
CATEGORIES:Featured Event
ATTACH;FMTTYPE=image/jpeg:https://epiphanynyc.org/wp-content/uploads/2022/06/card-image-1.jpg
END:VEVENT
BEGIN:VEVENT
DTSTART;TZID=UTC:20260923T180000
DTEND;TZID=UTC:20260923T193000
DTSTAMP:20260415T180234
CREATED:20241231T215607Z
LAST-MODIFIED:20241231T215628Z
UID:10000680-1790186400-1790191800@epiphanynyc.org
SUMMARY:Wednesday Night Dinner Program 2025
DESCRIPTION:
URL:https://epiphanynyc.org/event/wednesday-night-dinner-program-2022-07-20-3-2/2026-09-23/
CATEGORIES:Featured Event
ATTACH;FMTTYPE=image/jpeg:https://epiphanynyc.org/wp-content/uploads/2022/06/card-image-1.jpg
END:VEVENT
BEGIN:VEVENT
DTSTART;TZID=UTC:20260930T180000
DTEND;TZID=UTC:20260930T193000
DTSTAMP:20260415T180234
CREATED:20241231T215607Z
LAST-MODIFIED:20241231T215628Z
UID:10000681-1790791200-1790796600@epiphanynyc.org
SUMMARY:Wednesday Night Dinner Program 2025
DESCRIPTION:
URL:https://epiphanynyc.org/event/wednesday-night-dinner-program-2022-07-20-3-2/2026-09-30/
CATEGORIES:Featured Event
ATTACH;FMTTYPE=image/jpeg:https://epiphanynyc.org/wp-content/uploads/2022/06/card-image-1.jpg
END:VEVENT
BEGIN:VEVENT
DTSTART;TZID=UTC:20261007T180000
DTEND;TZID=UTC:20261007T193000
DTSTAMP:20260415T180234
CREATED:20241231T215607Z
LAST-MODIFIED:20241231T215628Z
UID:10000682-1791396000-1791401400@epiphanynyc.org
SUMMARY:Wednesday Night Dinner Program 2025
DESCRIPTION:
URL:https://epiphanynyc.org/event/wednesday-night-dinner-program-2022-07-20-3-2/2026-10-07/
CATEGORIES:Featured Event
ATTACH;FMTTYPE=image/jpeg:https://epiphanynyc.org/wp-content/uploads/2022/06/card-image-1.jpg
END:VEVENT
BEGIN:VEVENT
DTSTART;TZID=UTC:20261014T180000
DTEND;TZID=UTC:20261014T193000
DTSTAMP:20260415T180234
CREATED:20241231T215607Z
LAST-MODIFIED:20241231T215628Z
UID:10000683-1792000800-1792006200@epiphanynyc.org
SUMMARY:Wednesday Night Dinner Program 2025
DESCRIPTION:
URL:https://epiphanynyc.org/event/wednesday-night-dinner-program-2022-07-20-3-2/2026-10-14/
CATEGORIES:Featured Event
ATTACH;FMTTYPE=image/jpeg:https://epiphanynyc.org/wp-content/uploads/2022/06/card-image-1.jpg
END:VEVENT
BEGIN:VEVENT
DTSTART;TZID=UTC:20261021T180000
DTEND;TZID=UTC:20261021T193000
DTSTAMP:20260415T180234
CREATED:20241231T215607Z
LAST-MODIFIED:20241231T215628Z
UID:10000684-1792605600-1792611000@epiphanynyc.org
SUMMARY:Wednesday Night Dinner Program 2025
DESCRIPTION:
URL:https://epiphanynyc.org/event/wednesday-night-dinner-program-2022-07-20-3-2/2026-10-21/
CATEGORIES:Featured Event
ATTACH;FMTTYPE=image/jpeg:https://epiphanynyc.org/wp-content/uploads/2022/06/card-image-1.jpg
END:VEVENT
BEGIN:VEVENT
DTSTART;TZID=UTC:20261028T180000
DTEND;TZID=UTC:20261028T193000
DTSTAMP:20260415T180234
CREATED:20241231T215607Z
LAST-MODIFIED:20241231T215628Z
UID:10000685-1793210400-1793215800@epiphanynyc.org
SUMMARY:Wednesday Night Dinner Program 2025
DESCRIPTION:
URL:https://epiphanynyc.org/event/wednesday-night-dinner-program-2022-07-20-3-2/2026-10-28/
CATEGORIES:Featured Event
ATTACH;FMTTYPE=image/jpeg:https://epiphanynyc.org/wp-content/uploads/2022/06/card-image-1.jpg
END:VEVENT
BEGIN:VEVENT
DTSTART;TZID=UTC:20261104T180000
DTEND;TZID=UTC:20261104T193000
DTSTAMP:20260415T180234
CREATED:20241231T215607Z
LAST-MODIFIED:20241231T215628Z
UID:10000686-1793815200-1793820600@epiphanynyc.org
SUMMARY:Wednesday Night Dinner Program 2025
DESCRIPTION:
URL:https://epiphanynyc.org/event/wednesday-night-dinner-program-2022-07-20-3-2/2026-11-04/
CATEGORIES:Featured Event
ATTACH;FMTTYPE=image/jpeg:https://epiphanynyc.org/wp-content/uploads/2022/06/card-image-1.jpg
END:VEVENT
BEGIN:VEVENT
DTSTART;TZID=UTC:20261111T180000
DTEND;TZID=UTC:20261111T193000
DTSTAMP:20260415T180234
CREATED:20241231T215607Z
LAST-MODIFIED:20241231T215628Z
UID:10000687-1794420000-1794425400@epiphanynyc.org
SUMMARY:Wednesday Night Dinner Program 2025
DESCRIPTION:
URL:https://epiphanynyc.org/event/wednesday-night-dinner-program-2022-07-20-3-2/2026-11-11/
CATEGORIES:Featured Event
ATTACH;FMTTYPE=image/jpeg:https://epiphanynyc.org/wp-content/uploads/2022/06/card-image-1.jpg
END:VEVENT
BEGIN:VEVENT
DTSTART;TZID=UTC:20261118T180000
DTEND;TZID=UTC:20261118T193000
DTSTAMP:20260415T180234
CREATED:20241231T215607Z
LAST-MODIFIED:20241231T215628Z
UID:10000688-1795024800-1795030200@epiphanynyc.org
SUMMARY:Wednesday Night Dinner Program 2025
DESCRIPTION:
URL:https://epiphanynyc.org/event/wednesday-night-dinner-program-2022-07-20-3-2/2026-11-18/
CATEGORIES:Featured Event
ATTACH;FMTTYPE=image/jpeg:https://epiphanynyc.org/wp-content/uploads/2022/06/card-image-1.jpg
END:VEVENT
BEGIN:VEVENT
DTSTART;TZID=UTC:20261125T180000
DTEND;TZID=UTC:20261125T193000
DTSTAMP:20260415T180234
CREATED:20241231T215607Z
LAST-MODIFIED:20241231T215628Z
UID:10000689-1795629600-1795635000@epiphanynyc.org
SUMMARY:Wednesday Night Dinner Program 2025
DESCRIPTION:
URL:https://epiphanynyc.org/event/wednesday-night-dinner-program-2022-07-20-3-2/2026-11-25/
CATEGORIES:Featured Event
ATTACH;FMTTYPE=image/jpeg:https://epiphanynyc.org/wp-content/uploads/2022/06/card-image-1.jpg
END:VEVENT
BEGIN:VEVENT
DTSTART;TZID=UTC:20261202T180000
DTEND;TZID=UTC:20261202T193000
DTSTAMP:20260415T180235
CREATED:20241231T215607Z
LAST-MODIFIED:20241231T215628Z
UID:10000690-1796234400-1796239800@epiphanynyc.org
SUMMARY:Wednesday Night Dinner Program 2025
DESCRIPTION:
URL:https://epiphanynyc.org/event/wednesday-night-dinner-program-2022-07-20-3-2/2026-12-02/
CATEGORIES:Featured Event
ATTACH;FMTTYPE=image/jpeg:https://epiphanynyc.org/wp-content/uploads/2022/06/card-image-1.jpg
END:VEVENT
BEGIN:VEVENT
DTSTART;TZID=UTC:20261209T180000
DTEND;TZID=UTC:20261209T193000
DTSTAMP:20260415T180235
CREATED:20241231T215607Z
LAST-MODIFIED:20241231T215628Z
UID:10000691-1796839200-1796844600@epiphanynyc.org
SUMMARY:Wednesday Night Dinner Program 2025
DESCRIPTION:
URL:https://epiphanynyc.org/event/wednesday-night-dinner-program-2022-07-20-3-2/2026-12-09/
CATEGORIES:Featured Event
ATTACH;FMTTYPE=image/jpeg:https://epiphanynyc.org/wp-content/uploads/2022/06/card-image-1.jpg
END:VEVENT
BEGIN:VEVENT
DTSTART;TZID=UTC:20261216T180000
DTEND;TZID=UTC:20261216T193000
DTSTAMP:20260415T180235
CREATED:20241231T215607Z
LAST-MODIFIED:20241231T215628Z
UID:10000692-1797444000-1797449400@epiphanynyc.org
SUMMARY:Wednesday Night Dinner Program 2025
DESCRIPTION:
URL:https://epiphanynyc.org/event/wednesday-night-dinner-program-2022-07-20-3-2/2026-12-16/
CATEGORIES:Featured Event
ATTACH;FMTTYPE=image/jpeg:https://epiphanynyc.org/wp-content/uploads/2022/06/card-image-1.jpg
END:VEVENT
BEGIN:VEVENT
DTSTART;TZID=UTC:20261223T180000
DTEND;TZID=UTC:20261223T193000
DTSTAMP:20260415T180235
CREATED:20241231T215607Z
LAST-MODIFIED:20241231T215628Z
UID:10000693-1798048800-1798054200@epiphanynyc.org
SUMMARY:Wednesday Night Dinner Program 2025
DESCRIPTION:
URL:https://epiphanynyc.org/event/wednesday-night-dinner-program-2022-07-20-3-2/2026-12-23/
CATEGORIES:Featured Event
ATTACH;FMTTYPE=image/jpeg:https://epiphanynyc.org/wp-content/uploads/2022/06/card-image-1.jpg
END:VEVENT
BEGIN:VEVENT
DTSTART;TZID=UTC:20261230T180000
DTEND;TZID=UTC:20261230T193000
DTSTAMP:20260415T180235
CREATED:20241231T215607Z
LAST-MODIFIED:20241231T215628Z
UID:10000694-1798653600-1798659000@epiphanynyc.org
SUMMARY:Wednesday Night Dinner Program 2025
DESCRIPTION:
URL:https://epiphanynyc.org/event/wednesday-night-dinner-program-2022-07-20-3-2/2026-12-30/
CATEGORIES:Featured Event
ATTACH;FMTTYPE=image/jpeg:https://epiphanynyc.org/wp-content/uploads/2022/06/card-image-1.jpg
END:VEVENT
BEGIN:VEVENT
DTSTART;TZID=UTC:20270106T180000
DTEND;TZID=UTC:20270106T193000
DTSTAMP:20260415T180235
CREATED:20241231T215607Z
LAST-MODIFIED:20241231T215628Z
UID:10000695-1799258400-1799263800@epiphanynyc.org
SUMMARY:Wednesday Night Dinner Program 2025
DESCRIPTION:
URL:https://epiphanynyc.org/event/wednesday-night-dinner-program-2022-07-20-3-2/2027-01-06/
CATEGORIES:Featured Event
ATTACH;FMTTYPE=image/jpeg:https://epiphanynyc.org/wp-content/uploads/2022/06/card-image-1.jpg
END:VEVENT
BEGIN:VEVENT
DTSTART;TZID=UTC:20270113T180000
DTEND;TZID=UTC:20270113T193000
DTSTAMP:20260415T180235
CREATED:20241231T215607Z
LAST-MODIFIED:20241231T215628Z
UID:10000696-1799863200-1799868600@epiphanynyc.org
SUMMARY:Wednesday Night Dinner Program 2025
DESCRIPTION:
URL:https://epiphanynyc.org/event/wednesday-night-dinner-program-2022-07-20-3-2/2027-01-13/
CATEGORIES:Featured Event
ATTACH;FMTTYPE=image/jpeg:https://epiphanynyc.org/wp-content/uploads/2022/06/card-image-1.jpg
END:VEVENT
BEGIN:VEVENT
DTSTART;TZID=UTC:20270120T180000
DTEND;TZID=UTC:20270120T193000
DTSTAMP:20260415T180235
CREATED:20241231T215607Z
LAST-MODIFIED:20241231T215628Z
UID:10000697-1800468000-1800473400@epiphanynyc.org
SUMMARY:Wednesday Night Dinner Program 2025
DESCRIPTION:
URL:https://epiphanynyc.org/event/wednesday-night-dinner-program-2022-07-20-3-2/2027-01-20/
CATEGORIES:Featured Event
ATTACH;FMTTYPE=image/jpeg:https://epiphanynyc.org/wp-content/uploads/2022/06/card-image-1.jpg
END:VEVENT
BEGIN:VEVENT
DTSTART;TZID=UTC:20270127T180000
DTEND;TZID=UTC:20270127T193000
DTSTAMP:20260415T180235
CREATED:20241231T215607Z
LAST-MODIFIED:20241231T215628Z
UID:10000698-1801072800-1801078200@epiphanynyc.org
SUMMARY:Wednesday Night Dinner Program 2025
DESCRIPTION:
URL:https://epiphanynyc.org/event/wednesday-night-dinner-program-2022-07-20-3-2/2027-01-27/
CATEGORIES:Featured Event
ATTACH;FMTTYPE=image/jpeg:https://epiphanynyc.org/wp-content/uploads/2022/06/card-image-1.jpg
END:VEVENT
END:VCALENDAR