BEGIN:VCALENDAR
VERSION:2.0
PRODID:-//Church of the Epiphany - ECPv6.15.20//NONSGML v1.0//EN
CALSCALE:GREGORIAN
METHOD:PUBLISH
X-WR-CALNAME:Church of the Epiphany
X-ORIGINAL-URL:https://epiphanynyc.org
X-WR-CALDESC:Events for Church of the Epiphany
REFRESH-INTERVAL;VALUE=DURATION:PT1H
X-Robots-Tag:noindex
X-PUBLISHED-TTL:PT1H
BEGIN:VTIMEZONE
TZID:UTC
BEGIN:STANDARD
TZOFFSETFROM:+0000
TZOFFSETTO:+0000
TZNAME:UTC
DTSTART:20240101T000000
END:STANDARD
END:VTIMEZONE
BEGIN:VTIMEZONE
TZID:America/Halifax
BEGIN:DAYLIGHT
TZOFFSETFROM:-0400
TZOFFSETTO:-0300
TZNAME:ADT
DTSTART:20240310T060000
END:DAYLIGHT
BEGIN:STANDARD
TZOFFSETFROM:-0300
TZOFFSETTO:-0400
TZNAME:AST
DTSTART:20241103T050000
END:STANDARD
BEGIN:DAYLIGHT
TZOFFSETFROM:-0400
TZOFFSETTO:-0300
TZNAME:ADT
DTSTART:20250309T060000
END:DAYLIGHT
BEGIN:STANDARD
TZOFFSETFROM:-0300
TZOFFSETTO:-0400
TZNAME:AST
DTSTART:20251102T050000
END:STANDARD
BEGIN:DAYLIGHT
TZOFFSETFROM:-0400
TZOFFSETTO:-0300
TZNAME:ADT
DTSTART:20260308T060000
END:DAYLIGHT
BEGIN:STANDARD
TZOFFSETFROM:-0300
TZOFFSETTO:-0400
TZNAME:AST
DTSTART:20261101T050000
END:STANDARD
END:VTIMEZONE
BEGIN:VEVENT
DTSTART;TZID=UTC:20250604T180000
DTEND;TZID=UTC:20250604T193000
DTSTAMP:20260421T005751
CREATED:20241231T215607Z
LAST-MODIFIED:20241231T215628Z
UID:10000612-1749060000-1749065400@epiphanynyc.org
SUMMARY:Wednesday Night Dinner Program 2025
DESCRIPTION:
URL:https://epiphanynyc.org/event/wednesday-night-dinner-program-2022-07-20-3-2/2025-06-04/
CATEGORIES:Featured Event
ATTACH;FMTTYPE=image/jpeg:https://epiphanynyc.org/wp-content/uploads/2022/06/card-image-1.jpg
END:VEVENT
BEGIN:VEVENT
DTSTART;TZID=America/Halifax:20250608T093000
DTEND;TZID=America/Halifax:20250608T101500
DTSTAMP:20260421T005751
CREATED:20250106T184608Z
LAST-MODIFIED:20250306T220325Z
UID:10000913-1749375000-1749377700@epiphanynyc.org
SUMMARY:Walk in Love an Episcopal 101
DESCRIPTION:
URL:https://epiphanynyc.org/event/walk-in-love-an-episcopal-101-2-2/2025-06-08/
CATEGORIES:Featured Event
ATTACH;FMTTYPE=image/jpeg:https://epiphanynyc.org/wp-content/uploads/2024/09/unnamed-5.jpg
END:VEVENT
BEGIN:VEVENT
DTSTART;TZID=UTC:20250611T180000
DTEND;TZID=UTC:20250611T193000
DTSTAMP:20260421T005751
CREATED:20241231T215607Z
LAST-MODIFIED:20241231T215628Z
UID:10000613-1749664800-1749670200@epiphanynyc.org
SUMMARY:Wednesday Night Dinner Program 2025
DESCRIPTION:
URL:https://epiphanynyc.org/event/wednesday-night-dinner-program-2022-07-20-3-2/2025-06-11/
CATEGORIES:Featured Event
ATTACH;FMTTYPE=image/jpeg:https://epiphanynyc.org/wp-content/uploads/2022/06/card-image-1.jpg
END:VEVENT
BEGIN:VEVENT
DTSTART;TZID=America/Halifax:20250615T093000
DTEND;TZID=America/Halifax:20250615T101500
DTSTAMP:20260421T005751
CREATED:20250106T184608Z
LAST-MODIFIED:20250306T220325Z
UID:10000914-1749979800-1749982500@epiphanynyc.org
SUMMARY:Walk in Love an Episcopal 101
DESCRIPTION:
URL:https://epiphanynyc.org/event/walk-in-love-an-episcopal-101-2-2/2025-06-15/
CATEGORIES:Featured Event
ATTACH;FMTTYPE=image/jpeg:https://epiphanynyc.org/wp-content/uploads/2024/09/unnamed-5.jpg
END:VEVENT
BEGIN:VEVENT
DTSTART;TZID=UTC:20250618T180000
DTEND;TZID=UTC:20250618T193000
DTSTAMP:20260421T005751
CREATED:20241231T215607Z
LAST-MODIFIED:20241231T215628Z
UID:10000614-1750269600-1750275000@epiphanynyc.org
SUMMARY:Wednesday Night Dinner Program 2025
DESCRIPTION:
URL:https://epiphanynyc.org/event/wednesday-night-dinner-program-2022-07-20-3-2/2025-06-18/
CATEGORIES:Featured Event
ATTACH;FMTTYPE=image/jpeg:https://epiphanynyc.org/wp-content/uploads/2022/06/card-image-1.jpg
END:VEVENT
BEGIN:VEVENT
DTSTART;TZID=America/Halifax:20250622T093000
DTEND;TZID=America/Halifax:20250622T101500
DTSTAMP:20260421T005751
CREATED:20250106T184608Z
LAST-MODIFIED:20250306T220325Z
UID:10000915-1750584600-1750587300@epiphanynyc.org
SUMMARY:Walk in Love an Episcopal 101
DESCRIPTION:
URL:https://epiphanynyc.org/event/walk-in-love-an-episcopal-101-2-2/2025-06-22/
CATEGORIES:Featured Event
ATTACH;FMTTYPE=image/jpeg:https://epiphanynyc.org/wp-content/uploads/2024/09/unnamed-5.jpg
END:VEVENT
BEGIN:VEVENT
DTSTART;TZID=UTC:20250625T180000
DTEND;TZID=UTC:20250625T193000
DTSTAMP:20260421T005751
CREATED:20241231T215607Z
LAST-MODIFIED:20241231T215628Z
UID:10000615-1750874400-1750879800@epiphanynyc.org
SUMMARY:Wednesday Night Dinner Program 2025
DESCRIPTION:
URL:https://epiphanynyc.org/event/wednesday-night-dinner-program-2022-07-20-3-2/2025-06-25/
CATEGORIES:Featured Event
ATTACH;FMTTYPE=image/jpeg:https://epiphanynyc.org/wp-content/uploads/2022/06/card-image-1.jpg
END:VEVENT
BEGIN:VEVENT
DTSTART;TZID=America/Halifax:20250629T093000
DTEND;TZID=America/Halifax:20250629T101500
DTSTAMP:20260421T005751
CREATED:20250106T184608Z
LAST-MODIFIED:20250306T220325Z
UID:10000916-1751189400-1751192100@epiphanynyc.org
SUMMARY:Walk in Love an Episcopal 101
DESCRIPTION:
URL:https://epiphanynyc.org/event/walk-in-love-an-episcopal-101-2-2/2025-06-29/
CATEGORIES:Featured Event
ATTACH;FMTTYPE=image/jpeg:https://epiphanynyc.org/wp-content/uploads/2024/09/unnamed-5.jpg
END:VEVENT
BEGIN:VEVENT
DTSTART;TZID=UTC:20250702T180000
DTEND;TZID=UTC:20250702T193000
DTSTAMP:20260421T005751
CREATED:20241231T215607Z
LAST-MODIFIED:20241231T215628Z
UID:10000616-1751479200-1751484600@epiphanynyc.org
SUMMARY:Wednesday Night Dinner Program 2025
DESCRIPTION:
URL:https://epiphanynyc.org/event/wednesday-night-dinner-program-2022-07-20-3-2/2025-07-02/
CATEGORIES:Featured Event
ATTACH;FMTTYPE=image/jpeg:https://epiphanynyc.org/wp-content/uploads/2022/06/card-image-1.jpg
END:VEVENT
BEGIN:VEVENT
DTSTART;TZID=America/Halifax:20250706T093000
DTEND;TZID=America/Halifax:20250706T101500
DTSTAMP:20260421T005751
CREATED:20250106T184608Z
LAST-MODIFIED:20250306T220325Z
UID:10000917-1751794200-1751796900@epiphanynyc.org
SUMMARY:Walk in Love an Episcopal 101
DESCRIPTION:
URL:https://epiphanynyc.org/event/walk-in-love-an-episcopal-101-2-2/2025-07-06/
CATEGORIES:Featured Event
ATTACH;FMTTYPE=image/jpeg:https://epiphanynyc.org/wp-content/uploads/2024/09/unnamed-5.jpg
END:VEVENT
BEGIN:VEVENT
DTSTART;TZID=UTC:20250709T180000
DTEND;TZID=UTC:20250709T193000
DTSTAMP:20260421T005751
CREATED:20241231T215607Z
LAST-MODIFIED:20241231T215628Z
UID:10000617-1752084000-1752089400@epiphanynyc.org
SUMMARY:Wednesday Night Dinner Program 2025
DESCRIPTION:
URL:https://epiphanynyc.org/event/wednesday-night-dinner-program-2022-07-20-3-2/2025-07-09/
CATEGORIES:Featured Event
ATTACH;FMTTYPE=image/jpeg:https://epiphanynyc.org/wp-content/uploads/2022/06/card-image-1.jpg
END:VEVENT
BEGIN:VEVENT
DTSTART;TZID=America/Halifax:20250713T093000
DTEND;TZID=America/Halifax:20250713T101500
DTSTAMP:20260421T005751
CREATED:20250106T184608Z
LAST-MODIFIED:20250306T220325Z
UID:10000918-1752399000-1752401700@epiphanynyc.org
SUMMARY:Walk in Love an Episcopal 101
DESCRIPTION:
URL:https://epiphanynyc.org/event/walk-in-love-an-episcopal-101-2-2/2025-07-13/
CATEGORIES:Featured Event
ATTACH;FMTTYPE=image/jpeg:https://epiphanynyc.org/wp-content/uploads/2024/09/unnamed-5.jpg
END:VEVENT
BEGIN:VEVENT
DTSTART;TZID=UTC:20250716T180000
DTEND;TZID=UTC:20250716T193000
DTSTAMP:20260421T005751
CREATED:20241231T215607Z
LAST-MODIFIED:20241231T215628Z
UID:10000618-1752688800-1752694200@epiphanynyc.org
SUMMARY:Wednesday Night Dinner Program 2025
DESCRIPTION:
URL:https://epiphanynyc.org/event/wednesday-night-dinner-program-2022-07-20-3-2/2025-07-16/
CATEGORIES:Featured Event
ATTACH;FMTTYPE=image/jpeg:https://epiphanynyc.org/wp-content/uploads/2022/06/card-image-1.jpg
END:VEVENT
BEGIN:VEVENT
DTSTART;TZID=America/Halifax:20250720T093000
DTEND;TZID=America/Halifax:20250720T101500
DTSTAMP:20260421T005751
CREATED:20250106T184608Z
LAST-MODIFIED:20250306T220325Z
UID:10000919-1753003800-1753006500@epiphanynyc.org
SUMMARY:Walk in Love an Episcopal 101
DESCRIPTION:
URL:https://epiphanynyc.org/event/walk-in-love-an-episcopal-101-2-2/2025-07-20/
CATEGORIES:Featured Event
ATTACH;FMTTYPE=image/jpeg:https://epiphanynyc.org/wp-content/uploads/2024/09/unnamed-5.jpg
END:VEVENT
BEGIN:VEVENT
DTSTART;TZID=UTC:20250723T180000
DTEND;TZID=UTC:20250723T193000
DTSTAMP:20260421T005751
CREATED:20241231T215607Z
LAST-MODIFIED:20241231T215628Z
UID:10000619-1753293600-1753299000@epiphanynyc.org
SUMMARY:Wednesday Night Dinner Program 2025
DESCRIPTION:
URL:https://epiphanynyc.org/event/wednesday-night-dinner-program-2022-07-20-3-2/2025-07-23/
CATEGORIES:Featured Event
ATTACH;FMTTYPE=image/jpeg:https://epiphanynyc.org/wp-content/uploads/2022/06/card-image-1.jpg
END:VEVENT
BEGIN:VEVENT
DTSTART;TZID=America/Halifax:20250727T093000
DTEND;TZID=America/Halifax:20250727T101500
DTSTAMP:20260421T005751
CREATED:20250106T184608Z
LAST-MODIFIED:20250306T220325Z
UID:10000920-1753608600-1753611300@epiphanynyc.org
SUMMARY:Walk in Love an Episcopal 101
DESCRIPTION:
URL:https://epiphanynyc.org/event/walk-in-love-an-episcopal-101-2-2/2025-07-27/
CATEGORIES:Featured Event
ATTACH;FMTTYPE=image/jpeg:https://epiphanynyc.org/wp-content/uploads/2024/09/unnamed-5.jpg
END:VEVENT
BEGIN:VEVENT
DTSTART;TZID=UTC:20250730T180000
DTEND;TZID=UTC:20250730T193000
DTSTAMP:20260421T005751
CREATED:20241231T215607Z
LAST-MODIFIED:20241231T215628Z
UID:10000620-1753898400-1753903800@epiphanynyc.org
SUMMARY:Wednesday Night Dinner Program 2025
DESCRIPTION:
URL:https://epiphanynyc.org/event/wednesday-night-dinner-program-2022-07-20-3-2/2025-07-30/
CATEGORIES:Featured Event
ATTACH;FMTTYPE=image/jpeg:https://epiphanynyc.org/wp-content/uploads/2022/06/card-image-1.jpg
END:VEVENT
BEGIN:VEVENT
DTSTART;TZID=America/Halifax:20250803T093000
DTEND;TZID=America/Halifax:20250803T101500
DTSTAMP:20260421T005752
CREATED:20250106T184608Z
LAST-MODIFIED:20250306T220325Z
UID:10000921-1754213400-1754216100@epiphanynyc.org
SUMMARY:Walk in Love an Episcopal 101
DESCRIPTION:
URL:https://epiphanynyc.org/event/walk-in-love-an-episcopal-101-2-2/2025-08-03/
CATEGORIES:Featured Event
ATTACH;FMTTYPE=image/jpeg:https://epiphanynyc.org/wp-content/uploads/2024/09/unnamed-5.jpg
END:VEVENT
BEGIN:VEVENT
DTSTART;TZID=UTC:20250806T180000
DTEND;TZID=UTC:20250806T193000
DTSTAMP:20260421T005752
CREATED:20241231T215607Z
LAST-MODIFIED:20241231T215628Z
UID:10000621-1754503200-1754508600@epiphanynyc.org
SUMMARY:Wednesday Night Dinner Program 2025
DESCRIPTION:
URL:https://epiphanynyc.org/event/wednesday-night-dinner-program-2022-07-20-3-2/2025-08-06/
CATEGORIES:Featured Event
ATTACH;FMTTYPE=image/jpeg:https://epiphanynyc.org/wp-content/uploads/2022/06/card-image-1.jpg
END:VEVENT
BEGIN:VEVENT
DTSTART;TZID=America/Halifax:20250810T093000
DTEND;TZID=America/Halifax:20250810T101500
DTSTAMP:20260421T005752
CREATED:20250106T184608Z
LAST-MODIFIED:20250306T220325Z
UID:10000922-1754818200-1754820900@epiphanynyc.org
SUMMARY:Walk in Love an Episcopal 101
DESCRIPTION:
URL:https://epiphanynyc.org/event/walk-in-love-an-episcopal-101-2-2/2025-08-10/
CATEGORIES:Featured Event
ATTACH;FMTTYPE=image/jpeg:https://epiphanynyc.org/wp-content/uploads/2024/09/unnamed-5.jpg
END:VEVENT
BEGIN:VEVENT
DTSTART;TZID=UTC:20250813T180000
DTEND;TZID=UTC:20250813T193000
DTSTAMP:20260421T005752
CREATED:20241231T215607Z
LAST-MODIFIED:20241231T215628Z
UID:10000622-1755108000-1755113400@epiphanynyc.org
SUMMARY:Wednesday Night Dinner Program 2025
DESCRIPTION:
URL:https://epiphanynyc.org/event/wednesday-night-dinner-program-2022-07-20-3-2/2025-08-13/
CATEGORIES:Featured Event
ATTACH;FMTTYPE=image/jpeg:https://epiphanynyc.org/wp-content/uploads/2022/06/card-image-1.jpg
END:VEVENT
BEGIN:VEVENT
DTSTART;TZID=America/Halifax:20250817T093000
DTEND;TZID=America/Halifax:20250817T101500
DTSTAMP:20260421T005752
CREATED:20250106T184608Z
LAST-MODIFIED:20250306T220325Z
UID:10000923-1755423000-1755425700@epiphanynyc.org
SUMMARY:Walk in Love an Episcopal 101
DESCRIPTION:
URL:https://epiphanynyc.org/event/walk-in-love-an-episcopal-101-2-2/2025-08-17/
CATEGORIES:Featured Event
ATTACH;FMTTYPE=image/jpeg:https://epiphanynyc.org/wp-content/uploads/2024/09/unnamed-5.jpg
END:VEVENT
BEGIN:VEVENT
DTSTART;TZID=UTC:20250820T180000
DTEND;TZID=UTC:20250820T193000
DTSTAMP:20260421T005752
CREATED:20241231T215607Z
LAST-MODIFIED:20241231T215628Z
UID:10000623-1755712800-1755718200@epiphanynyc.org
SUMMARY:Wednesday Night Dinner Program 2025
DESCRIPTION:
URL:https://epiphanynyc.org/event/wednesday-night-dinner-program-2022-07-20-3-2/2025-08-20/
CATEGORIES:Featured Event
ATTACH;FMTTYPE=image/jpeg:https://epiphanynyc.org/wp-content/uploads/2022/06/card-image-1.jpg
END:VEVENT
BEGIN:VEVENT
DTSTART;TZID=America/Halifax:20250824T093000
DTEND;TZID=America/Halifax:20250824T101500
DTSTAMP:20260421T005752
CREATED:20250106T184608Z
LAST-MODIFIED:20250306T220325Z
UID:10000924-1756027800-1756030500@epiphanynyc.org
SUMMARY:Walk in Love an Episcopal 101
DESCRIPTION:
URL:https://epiphanynyc.org/event/walk-in-love-an-episcopal-101-2-2/2025-08-24/
CATEGORIES:Featured Event
ATTACH;FMTTYPE=image/jpeg:https://epiphanynyc.org/wp-content/uploads/2024/09/unnamed-5.jpg
END:VEVENT
BEGIN:VEVENT
DTSTART;TZID=UTC:20250827T180000
DTEND;TZID=UTC:20250827T193000
DTSTAMP:20260421T005752
CREATED:20241231T215607Z
LAST-MODIFIED:20241231T215628Z
UID:10000624-1756317600-1756323000@epiphanynyc.org
SUMMARY:Wednesday Night Dinner Program 2025
DESCRIPTION:
URL:https://epiphanynyc.org/event/wednesday-night-dinner-program-2022-07-20-3-2/2025-08-27/
CATEGORIES:Featured Event
ATTACH;FMTTYPE=image/jpeg:https://epiphanynyc.org/wp-content/uploads/2022/06/card-image-1.jpg
END:VEVENT
BEGIN:VEVENT
DTSTART;TZID=America/Halifax:20250831T093000
DTEND;TZID=America/Halifax:20250831T101500
DTSTAMP:20260421T005752
CREATED:20250106T184608Z
LAST-MODIFIED:20250306T220325Z
UID:10000925-1756632600-1756635300@epiphanynyc.org
SUMMARY:Walk in Love an Episcopal 101
DESCRIPTION:
URL:https://epiphanynyc.org/event/walk-in-love-an-episcopal-101-2-2/2025-08-31/
CATEGORIES:Featured Event
ATTACH;FMTTYPE=image/jpeg:https://epiphanynyc.org/wp-content/uploads/2024/09/unnamed-5.jpg
END:VEVENT
BEGIN:VEVENT
DTSTART;TZID=UTC:20250903T180000
DTEND;TZID=UTC:20250903T193000
DTSTAMP:20260421T005752
CREATED:20241231T215607Z
LAST-MODIFIED:20241231T215628Z
UID:10000625-1756922400-1756927800@epiphanynyc.org
SUMMARY:Wednesday Night Dinner Program 2025
DESCRIPTION:
URL:https://epiphanynyc.org/event/wednesday-night-dinner-program-2022-07-20-3-2/2025-09-03/
CATEGORIES:Featured Event
ATTACH;FMTTYPE=image/jpeg:https://epiphanynyc.org/wp-content/uploads/2022/06/card-image-1.jpg
END:VEVENT
BEGIN:VEVENT
DTSTART;TZID=America/Halifax:20250907T093000
DTEND;TZID=America/Halifax:20250907T101500
DTSTAMP:20260421T005752
CREATED:20250106T184608Z
LAST-MODIFIED:20250306T220325Z
UID:10000926-1757237400-1757240100@epiphanynyc.org
SUMMARY:Walk in Love an Episcopal 101
DESCRIPTION:
URL:https://epiphanynyc.org/event/walk-in-love-an-episcopal-101-2-2/2025-09-07/
CATEGORIES:Featured Event
ATTACH;FMTTYPE=image/jpeg:https://epiphanynyc.org/wp-content/uploads/2024/09/unnamed-5.jpg
END:VEVENT
BEGIN:VEVENT
DTSTART;TZID=UTC:20250910T180000
DTEND;TZID=UTC:20250910T193000
DTSTAMP:20260421T005752
CREATED:20241231T215607Z
LAST-MODIFIED:20241231T215628Z
UID:10000626-1757527200-1757532600@epiphanynyc.org
SUMMARY:Wednesday Night Dinner Program 2025
DESCRIPTION:
URL:https://epiphanynyc.org/event/wednesday-night-dinner-program-2022-07-20-3-2/2025-09-10/
CATEGORIES:Featured Event
ATTACH;FMTTYPE=image/jpeg:https://epiphanynyc.org/wp-content/uploads/2022/06/card-image-1.jpg
END:VEVENT
BEGIN:VEVENT
DTSTART;TZID=America/Halifax:20250914T093000
DTEND;TZID=America/Halifax:20250914T101500
DTSTAMP:20260421T005752
CREATED:20250106T184608Z
LAST-MODIFIED:20250306T220325Z
UID:10000927-1757842200-1757844900@epiphanynyc.org
SUMMARY:Walk in Love an Episcopal 101
DESCRIPTION:
URL:https://epiphanynyc.org/event/walk-in-love-an-episcopal-101-2-2/2025-09-14/
CATEGORIES:Featured Event
ATTACH;FMTTYPE=image/jpeg:https://epiphanynyc.org/wp-content/uploads/2024/09/unnamed-5.jpg
END:VEVENT
END:VCALENDAR