BEGIN:VCALENDAR
VERSION:2.0
PRODID:-//Church of the Epiphany - ECPv6.15.20//NONSGML v1.0//EN
CALSCALE:GREGORIAN
METHOD:PUBLISH
X-ORIGINAL-URL:https://epiphanynyc.org
X-WR-CALDESC:Events for Church of the Epiphany
REFRESH-INTERVAL;VALUE=DURATION:PT1H
X-Robots-Tag:noindex
X-PUBLISHED-TTL:PT1H
BEGIN:VTIMEZONE
TZID:UTC
BEGIN:STANDARD
TZOFFSETFROM:+0000
TZOFFSETTO:+0000
TZNAME:UTC
DTSTART:20240101T000000
END:STANDARD
END:VTIMEZONE
BEGIN:VTIMEZONE
TZID:America/Halifax
BEGIN:DAYLIGHT
TZOFFSETFROM:-0400
TZOFFSETTO:-0300
TZNAME:ADT
DTSTART:20240310T060000
END:DAYLIGHT
BEGIN:STANDARD
TZOFFSETFROM:-0300
TZOFFSETTO:-0400
TZNAME:AST
DTSTART:20241103T050000
END:STANDARD
BEGIN:DAYLIGHT
TZOFFSETFROM:-0400
TZOFFSETTO:-0300
TZNAME:ADT
DTSTART:20250309T060000
END:DAYLIGHT
BEGIN:STANDARD
TZOFFSETFROM:-0300
TZOFFSETTO:-0400
TZNAME:AST
DTSTART:20251102T050000
END:STANDARD
BEGIN:DAYLIGHT
TZOFFSETFROM:-0400
TZOFFSETTO:-0300
TZNAME:ADT
DTSTART:20260308T060000
END:DAYLIGHT
BEGIN:STANDARD
TZOFFSETFROM:-0300
TZOFFSETTO:-0400
TZNAME:AST
DTSTART:20261101T050000
END:STANDARD
END:VTIMEZONE
BEGIN:VEVENT
DTSTART;TZID=UTC:20250924T180000
DTEND;TZID=UTC:20250924T193000
DTSTAMP:20260421T005823
CREATED:20241231T215607Z
LAST-MODIFIED:20241231T215628Z
UID:10000628-1758736800-1758742200@epiphanynyc.org
SUMMARY:Wednesday Night Dinner Program 2025
DESCRIPTION:
URL:https://epiphanynyc.org/event/wednesday-night-dinner-program-2022-07-20-3-2/2025-09-24/
CATEGORIES:Featured Event
ATTACH;FMTTYPE=image/jpeg:https://epiphanynyc.org/wp-content/uploads/2022/06/card-image-1.jpg
END:VEVENT
BEGIN:VEVENT
DTSTART;TZID=America/Halifax:20250928T093000
DTEND;TZID=America/Halifax:20250928T101500
DTSTAMP:20260421T005823
CREATED:20250106T184608Z
LAST-MODIFIED:20250306T220325Z
UID:10000929-1759051800-1759054500@epiphanynyc.org
SUMMARY:Walk in Love an Episcopal 101
DESCRIPTION:
URL:https://epiphanynyc.org/event/walk-in-love-an-episcopal-101-2-2/2025-09-28/
CATEGORIES:Featured Event
ATTACH;FMTTYPE=image/jpeg:https://epiphanynyc.org/wp-content/uploads/2024/09/unnamed-5.jpg
END:VEVENT
BEGIN:VEVENT
DTSTART;TZID=UTC:20251001T180000
DTEND;TZID=UTC:20251001T193000
DTSTAMP:20260421T005823
CREATED:20241231T215607Z
LAST-MODIFIED:20241231T215628Z
UID:10000629-1759341600-1759347000@epiphanynyc.org
SUMMARY:Wednesday Night Dinner Program 2025
DESCRIPTION:
URL:https://epiphanynyc.org/event/wednesday-night-dinner-program-2022-07-20-3-2/2025-10-01/
CATEGORIES:Featured Event
ATTACH;FMTTYPE=image/jpeg:https://epiphanynyc.org/wp-content/uploads/2022/06/card-image-1.jpg
END:VEVENT
BEGIN:VEVENT
DTSTART;TZID=America/Halifax:20251005T093000
DTEND;TZID=America/Halifax:20251005T101500
DTSTAMP:20260421T005824
CREATED:20250106T184608Z
LAST-MODIFIED:20250306T220325Z
UID:10000930-1759656600-1759659300@epiphanynyc.org
SUMMARY:Walk in Love an Episcopal 101
DESCRIPTION:
URL:https://epiphanynyc.org/event/walk-in-love-an-episcopal-101-2-2/2025-10-05/
CATEGORIES:Featured Event
ATTACH;FMTTYPE=image/jpeg:https://epiphanynyc.org/wp-content/uploads/2024/09/unnamed-5.jpg
END:VEVENT
BEGIN:VEVENT
DTSTART;TZID=UTC:20251008T180000
DTEND;TZID=UTC:20251008T193000
DTSTAMP:20260421T005824
CREATED:20241231T215607Z
LAST-MODIFIED:20241231T215628Z
UID:10000630-1759946400-1759951800@epiphanynyc.org
SUMMARY:Wednesday Night Dinner Program 2025
DESCRIPTION:
URL:https://epiphanynyc.org/event/wednesday-night-dinner-program-2022-07-20-3-2/2025-10-08/
CATEGORIES:Featured Event
ATTACH;FMTTYPE=image/jpeg:https://epiphanynyc.org/wp-content/uploads/2022/06/card-image-1.jpg
END:VEVENT
BEGIN:VEVENT
DTSTART;TZID=America/Halifax:20251012T093000
DTEND;TZID=America/Halifax:20251012T101500
DTSTAMP:20260421T005824
CREATED:20250106T184608Z
LAST-MODIFIED:20250306T220325Z
UID:10000931-1760261400-1760264100@epiphanynyc.org
SUMMARY:Walk in Love an Episcopal 101
DESCRIPTION:
URL:https://epiphanynyc.org/event/walk-in-love-an-episcopal-101-2-2/2025-10-12/
CATEGORIES:Featured Event
ATTACH;FMTTYPE=image/jpeg:https://epiphanynyc.org/wp-content/uploads/2024/09/unnamed-5.jpg
END:VEVENT
BEGIN:VEVENT
DTSTART;TZID=UTC:20251015T180000
DTEND;TZID=UTC:20251015T193000
DTSTAMP:20260421T005824
CREATED:20241231T215607Z
LAST-MODIFIED:20241231T215628Z
UID:10000631-1760551200-1760556600@epiphanynyc.org
SUMMARY:Wednesday Night Dinner Program 2025
DESCRIPTION:
URL:https://epiphanynyc.org/event/wednesday-night-dinner-program-2022-07-20-3-2/2025-10-15/
CATEGORIES:Featured Event
ATTACH;FMTTYPE=image/jpeg:https://epiphanynyc.org/wp-content/uploads/2022/06/card-image-1.jpg
END:VEVENT
BEGIN:VEVENT
DTSTART;TZID=America/Halifax:20251019T093000
DTEND;TZID=America/Halifax:20251019T101500
DTSTAMP:20260421T005824
CREATED:20250106T184608Z
LAST-MODIFIED:20250306T220325Z
UID:10000932-1760866200-1760868900@epiphanynyc.org
SUMMARY:Walk in Love an Episcopal 101
DESCRIPTION:
URL:https://epiphanynyc.org/event/walk-in-love-an-episcopal-101-2-2/2025-10-19/
CATEGORIES:Featured Event
ATTACH;FMTTYPE=image/jpeg:https://epiphanynyc.org/wp-content/uploads/2024/09/unnamed-5.jpg
END:VEVENT
BEGIN:VEVENT
DTSTART;TZID=UTC:20251022T180000
DTEND;TZID=UTC:20251022T193000
DTSTAMP:20260421T005824
CREATED:20241231T215607Z
LAST-MODIFIED:20241231T215628Z
UID:10000632-1761156000-1761161400@epiphanynyc.org
SUMMARY:Wednesday Night Dinner Program 2025
DESCRIPTION:
URL:https://epiphanynyc.org/event/wednesday-night-dinner-program-2022-07-20-3-2/2025-10-22/
CATEGORIES:Featured Event
ATTACH;FMTTYPE=image/jpeg:https://epiphanynyc.org/wp-content/uploads/2022/06/card-image-1.jpg
END:VEVENT
BEGIN:VEVENT
DTSTART;TZID=America/Halifax:20251026T093000
DTEND;TZID=America/Halifax:20251026T101500
DTSTAMP:20260421T005824
CREATED:20250106T184608Z
LAST-MODIFIED:20250306T220325Z
UID:10000933-1761471000-1761473700@epiphanynyc.org
SUMMARY:Walk in Love an Episcopal 101
DESCRIPTION:
URL:https://epiphanynyc.org/event/walk-in-love-an-episcopal-101-2-2/2025-10-26/
CATEGORIES:Featured Event
ATTACH;FMTTYPE=image/jpeg:https://epiphanynyc.org/wp-content/uploads/2024/09/unnamed-5.jpg
END:VEVENT
BEGIN:VEVENT
DTSTART;TZID=UTC:20251029T180000
DTEND;TZID=UTC:20251029T193000
DTSTAMP:20260421T005824
CREATED:20241231T215607Z
LAST-MODIFIED:20241231T215628Z
UID:10000633-1761760800-1761766200@epiphanynyc.org
SUMMARY:Wednesday Night Dinner Program 2025
DESCRIPTION:
URL:https://epiphanynyc.org/event/wednesday-night-dinner-program-2022-07-20-3-2/2025-10-29/
CATEGORIES:Featured Event
ATTACH;FMTTYPE=image/jpeg:https://epiphanynyc.org/wp-content/uploads/2022/06/card-image-1.jpg
END:VEVENT
BEGIN:VEVENT
DTSTART;TZID=America/Halifax:20251102T093000
DTEND;TZID=America/Halifax:20251102T101500
DTSTAMP:20260421T005824
CREATED:20250106T184608Z
LAST-MODIFIED:20250306T220325Z
UID:10000934-1762075800-1762078500@epiphanynyc.org
SUMMARY:Walk in Love an Episcopal 101
DESCRIPTION:
URL:https://epiphanynyc.org/event/walk-in-love-an-episcopal-101-2-2/2025-11-02/
CATEGORIES:Featured Event
ATTACH;FMTTYPE=image/jpeg:https://epiphanynyc.org/wp-content/uploads/2024/09/unnamed-5.jpg
END:VEVENT
BEGIN:VEVENT
DTSTART;TZID=UTC:20251105T180000
DTEND;TZID=UTC:20251105T193000
DTSTAMP:20260421T005824
CREATED:20241231T215607Z
LAST-MODIFIED:20241231T215628Z
UID:10000634-1762365600-1762371000@epiphanynyc.org
SUMMARY:Wednesday Night Dinner Program 2025
DESCRIPTION:
URL:https://epiphanynyc.org/event/wednesday-night-dinner-program-2022-07-20-3-2/2025-11-05/
CATEGORIES:Featured Event
ATTACH;FMTTYPE=image/jpeg:https://epiphanynyc.org/wp-content/uploads/2022/06/card-image-1.jpg
END:VEVENT
BEGIN:VEVENT
DTSTART;TZID=America/Halifax:20251109T093000
DTEND;TZID=America/Halifax:20251109T101500
DTSTAMP:20260421T005824
CREATED:20250106T184608Z
LAST-MODIFIED:20250306T220325Z
UID:10000935-1762680600-1762683300@epiphanynyc.org
SUMMARY:Walk in Love an Episcopal 101
DESCRIPTION:
URL:https://epiphanynyc.org/event/walk-in-love-an-episcopal-101-2-2/2025-11-09/
CATEGORIES:Featured Event
ATTACH;FMTTYPE=image/jpeg:https://epiphanynyc.org/wp-content/uploads/2024/09/unnamed-5.jpg
END:VEVENT
BEGIN:VEVENT
DTSTART;TZID=UTC:20251112T180000
DTEND;TZID=UTC:20251112T193000
DTSTAMP:20260421T005824
CREATED:20241231T215607Z
LAST-MODIFIED:20241231T215628Z
UID:10000635-1762970400-1762975800@epiphanynyc.org
SUMMARY:Wednesday Night Dinner Program 2025
DESCRIPTION:
URL:https://epiphanynyc.org/event/wednesday-night-dinner-program-2022-07-20-3-2/2025-11-12/
CATEGORIES:Featured Event
ATTACH;FMTTYPE=image/jpeg:https://epiphanynyc.org/wp-content/uploads/2022/06/card-image-1.jpg
END:VEVENT
BEGIN:VEVENT
DTSTART;TZID=America/Halifax:20251116T093000
DTEND;TZID=America/Halifax:20251116T101500
DTSTAMP:20260421T005824
CREATED:20250106T184608Z
LAST-MODIFIED:20250306T220325Z
UID:10000936-1763285400-1763288100@epiphanynyc.org
SUMMARY:Walk in Love an Episcopal 101
DESCRIPTION:
URL:https://epiphanynyc.org/event/walk-in-love-an-episcopal-101-2-2/2025-11-16/
CATEGORIES:Featured Event
ATTACH;FMTTYPE=image/jpeg:https://epiphanynyc.org/wp-content/uploads/2024/09/unnamed-5.jpg
END:VEVENT
BEGIN:VEVENT
DTSTART;TZID=UTC:20251119T180000
DTEND;TZID=UTC:20251119T193000
DTSTAMP:20260421T005824
CREATED:20241231T215607Z
LAST-MODIFIED:20241231T215628Z
UID:10000636-1763575200-1763580600@epiphanynyc.org
SUMMARY:Wednesday Night Dinner Program 2025
DESCRIPTION:
URL:https://epiphanynyc.org/event/wednesday-night-dinner-program-2022-07-20-3-2/2025-11-19/
CATEGORIES:Featured Event
ATTACH;FMTTYPE=image/jpeg:https://epiphanynyc.org/wp-content/uploads/2022/06/card-image-1.jpg
END:VEVENT
BEGIN:VEVENT
DTSTART;TZID=America/Halifax:20251123T093000
DTEND;TZID=America/Halifax:20251123T101500
DTSTAMP:20260421T005824
CREATED:20250106T184608Z
LAST-MODIFIED:20250306T220325Z
UID:10000937-1763890200-1763892900@epiphanynyc.org
SUMMARY:Walk in Love an Episcopal 101
DESCRIPTION:
URL:https://epiphanynyc.org/event/walk-in-love-an-episcopal-101-2-2/2025-11-23/
CATEGORIES:Featured Event
ATTACH;FMTTYPE=image/jpeg:https://epiphanynyc.org/wp-content/uploads/2024/09/unnamed-5.jpg
END:VEVENT
BEGIN:VEVENT
DTSTART;TZID=UTC:20251126T180000
DTEND;TZID=UTC:20251126T193000
DTSTAMP:20260421T005824
CREATED:20241231T215607Z
LAST-MODIFIED:20241231T215628Z
UID:10000637-1764180000-1764185400@epiphanynyc.org
SUMMARY:Wednesday Night Dinner Program 2025
DESCRIPTION:
URL:https://epiphanynyc.org/event/wednesday-night-dinner-program-2022-07-20-3-2/2025-11-26/
CATEGORIES:Featured Event
ATTACH;FMTTYPE=image/jpeg:https://epiphanynyc.org/wp-content/uploads/2022/06/card-image-1.jpg
END:VEVENT
BEGIN:VEVENT
DTSTART;TZID=America/Halifax:20251130T093000
DTEND;TZID=America/Halifax:20251130T101500
DTSTAMP:20260421T005824
CREATED:20250106T184608Z
LAST-MODIFIED:20250306T220325Z
UID:10000938-1764495000-1764497700@epiphanynyc.org
SUMMARY:Walk in Love an Episcopal 101
DESCRIPTION:
URL:https://epiphanynyc.org/event/walk-in-love-an-episcopal-101-2-2/2025-11-30/
CATEGORIES:Featured Event
ATTACH;FMTTYPE=image/jpeg:https://epiphanynyc.org/wp-content/uploads/2024/09/unnamed-5.jpg
END:VEVENT
BEGIN:VEVENT
DTSTART;TZID=UTC:20251203T180000
DTEND;TZID=UTC:20251203T193000
DTSTAMP:20260421T005824
CREATED:20241231T215607Z
LAST-MODIFIED:20241231T215628Z
UID:10000638-1764784800-1764790200@epiphanynyc.org
SUMMARY:Wednesday Night Dinner Program 2025
DESCRIPTION:
URL:https://epiphanynyc.org/event/wednesday-night-dinner-program-2022-07-20-3-2/2025-12-03/
CATEGORIES:Featured Event
ATTACH;FMTTYPE=image/jpeg:https://epiphanynyc.org/wp-content/uploads/2022/06/card-image-1.jpg
END:VEVENT
BEGIN:VEVENT
DTSTART;TZID=America/Halifax:20251207T093000
DTEND;TZID=America/Halifax:20251207T101500
DTSTAMP:20260421T005824
CREATED:20250106T184608Z
LAST-MODIFIED:20250306T220325Z
UID:10000939-1765099800-1765102500@epiphanynyc.org
SUMMARY:Walk in Love an Episcopal 101
DESCRIPTION:
URL:https://epiphanynyc.org/event/walk-in-love-an-episcopal-101-2-2/2025-12-07/
CATEGORIES:Featured Event
ATTACH;FMTTYPE=image/jpeg:https://epiphanynyc.org/wp-content/uploads/2024/09/unnamed-5.jpg
END:VEVENT
BEGIN:VEVENT
DTSTART;TZID=UTC:20251210T180000
DTEND;TZID=UTC:20251210T193000
DTSTAMP:20260421T005824
CREATED:20241231T215607Z
LAST-MODIFIED:20241231T215628Z
UID:10000639-1765389600-1765395000@epiphanynyc.org
SUMMARY:Wednesday Night Dinner Program 2025
DESCRIPTION:
URL:https://epiphanynyc.org/event/wednesday-night-dinner-program-2022-07-20-3-2/2025-12-10/
CATEGORIES:Featured Event
ATTACH;FMTTYPE=image/jpeg:https://epiphanynyc.org/wp-content/uploads/2022/06/card-image-1.jpg
END:VEVENT
BEGIN:VEVENT
DTSTART;TZID=America/Halifax:20251214T093000
DTEND;TZID=America/Halifax:20251214T101500
DTSTAMP:20260421T005824
CREATED:20250106T184608Z
LAST-MODIFIED:20250306T220325Z
UID:10000940-1765704600-1765707300@epiphanynyc.org
SUMMARY:Walk in Love an Episcopal 101
DESCRIPTION:
URL:https://epiphanynyc.org/event/walk-in-love-an-episcopal-101-2-2/2025-12-14/
CATEGORIES:Featured Event
ATTACH;FMTTYPE=image/jpeg:https://epiphanynyc.org/wp-content/uploads/2024/09/unnamed-5.jpg
END:VEVENT
BEGIN:VEVENT
DTSTART;TZID=UTC:20251217T180000
DTEND;TZID=UTC:20251217T193000
DTSTAMP:20260421T005824
CREATED:20241231T215607Z
LAST-MODIFIED:20241231T215628Z
UID:10000640-1765994400-1765999800@epiphanynyc.org
SUMMARY:Wednesday Night Dinner Program 2025
DESCRIPTION:
URL:https://epiphanynyc.org/event/wednesday-night-dinner-program-2022-07-20-3-2/2025-12-17/
CATEGORIES:Featured Event
ATTACH;FMTTYPE=image/jpeg:https://epiphanynyc.org/wp-content/uploads/2022/06/card-image-1.jpg
END:VEVENT
BEGIN:VEVENT
DTSTART;TZID=America/Halifax:20251221T093000
DTEND;TZID=America/Halifax:20251221T101500
DTSTAMP:20260421T005824
CREATED:20250106T184608Z
LAST-MODIFIED:20250306T220325Z
UID:10000941-1766309400-1766312100@epiphanynyc.org
SUMMARY:Walk in Love an Episcopal 101
DESCRIPTION:
URL:https://epiphanynyc.org/event/walk-in-love-an-episcopal-101-2-2/2025-12-21/
CATEGORIES:Featured Event
ATTACH;FMTTYPE=image/jpeg:https://epiphanynyc.org/wp-content/uploads/2024/09/unnamed-5.jpg
END:VEVENT
BEGIN:VEVENT
DTSTART;TZID=UTC:20251224T180000
DTEND;TZID=UTC:20251224T193000
DTSTAMP:20260421T005824
CREATED:20241231T215607Z
LAST-MODIFIED:20241231T215628Z
UID:10000641-1766599200-1766604600@epiphanynyc.org
SUMMARY:Wednesday Night Dinner Program 2025
DESCRIPTION:
URL:https://epiphanynyc.org/event/wednesday-night-dinner-program-2022-07-20-3-2/2025-12-24/
CATEGORIES:Featured Event
ATTACH;FMTTYPE=image/jpeg:https://epiphanynyc.org/wp-content/uploads/2022/06/card-image-1.jpg
END:VEVENT
BEGIN:VEVENT
DTSTART;TZID=America/Halifax:20251228T093000
DTEND;TZID=America/Halifax:20251228T101500
DTSTAMP:20260421T005825
CREATED:20250106T184608Z
LAST-MODIFIED:20250306T220325Z
UID:10000942-1766914200-1766916900@epiphanynyc.org
SUMMARY:Walk in Love an Episcopal 101
DESCRIPTION:
URL:https://epiphanynyc.org/event/walk-in-love-an-episcopal-101-2-2/2025-12-28/
CATEGORIES:Featured Event
ATTACH;FMTTYPE=image/jpeg:https://epiphanynyc.org/wp-content/uploads/2024/09/unnamed-5.jpg
END:VEVENT
BEGIN:VEVENT
DTSTART;TZID=UTC:20251231T180000
DTEND;TZID=UTC:20251231T193000
DTSTAMP:20260421T005825
CREATED:20241231T215607Z
LAST-MODIFIED:20241231T215628Z
UID:10000642-1767204000-1767209400@epiphanynyc.org
SUMMARY:Wednesday Night Dinner Program 2025
DESCRIPTION:
URL:https://epiphanynyc.org/event/wednesday-night-dinner-program-2022-07-20-3-2/2025-12-31/
CATEGORIES:Featured Event
ATTACH;FMTTYPE=image/jpeg:https://epiphanynyc.org/wp-content/uploads/2022/06/card-image-1.jpg
END:VEVENT
BEGIN:VEVENT
DTSTART;TZID=UTC:20260107T180000
DTEND;TZID=UTC:20260107T193000
DTSTAMP:20260421T005825
CREATED:20241231T215607Z
LAST-MODIFIED:20241231T215628Z
UID:10000643-1767808800-1767814200@epiphanynyc.org
SUMMARY:Wednesday Night Dinner Program 2025
DESCRIPTION:
URL:https://epiphanynyc.org/event/wednesday-night-dinner-program-2022-07-20-3-2/2026-01-07/
CATEGORIES:Featured Event
ATTACH;FMTTYPE=image/jpeg:https://epiphanynyc.org/wp-content/uploads/2022/06/card-image-1.jpg
END:VEVENT
END:VCALENDAR