BEGIN:VCALENDAR
VERSION:2.0
PRODID:-//Church of the Epiphany - ECPv6.15.20//NONSGML v1.0//EN
CALSCALE:GREGORIAN
METHOD:PUBLISH
X-ORIGINAL-URL:https://epiphanynyc.org
X-WR-CALDESC:Events for Church of the Epiphany
REFRESH-INTERVAL;VALUE=DURATION:PT1H
X-Robots-Tag:noindex
X-PUBLISHED-TTL:PT1H
BEGIN:VTIMEZONE
TZID:UTC
BEGIN:STANDARD
TZOFFSETFROM:+0000
TZOFFSETTO:+0000
TZNAME:UTC
DTSTART:20270101T000000
END:STANDARD
END:VTIMEZONE
BEGIN:VEVENT
DTSTART;TZID=UTC:20280223T180000
DTEND;TZID=UTC:20280223T193000
DTSTAMP:20260419T134227
CREATED:20241231T215607Z
LAST-MODIFIED:20241231T215628Z
UID:10000754-1834941600-1834947000@epiphanynyc.org
SUMMARY:Wednesday Night Dinner Program 2025
DESCRIPTION:
URL:https://epiphanynyc.org/event/wednesday-night-dinner-program-2022-07-20-3-2/2028-02-23/
CATEGORIES:Featured Event
ATTACH;FMTTYPE=image/jpeg:https://epiphanynyc.org/wp-content/uploads/2022/06/card-image-1.jpg
END:VEVENT
BEGIN:VEVENT
DTSTART;TZID=UTC:20280301T180000
DTEND;TZID=UTC:20280301T193000
DTSTAMP:20260419T134227
CREATED:20241231T215607Z
LAST-MODIFIED:20241231T215628Z
UID:10000755-1835546400-1835551800@epiphanynyc.org
SUMMARY:Wednesday Night Dinner Program 2025
DESCRIPTION:
URL:https://epiphanynyc.org/event/wednesday-night-dinner-program-2022-07-20-3-2/2028-03-01/
CATEGORIES:Featured Event
ATTACH;FMTTYPE=image/jpeg:https://epiphanynyc.org/wp-content/uploads/2022/06/card-image-1.jpg
END:VEVENT
BEGIN:VEVENT
DTSTART;TZID=UTC:20280308T180000
DTEND;TZID=UTC:20280308T193000
DTSTAMP:20260419T134227
CREATED:20241231T215607Z
LAST-MODIFIED:20241231T215628Z
UID:10000756-1836151200-1836156600@epiphanynyc.org
SUMMARY:Wednesday Night Dinner Program 2025
DESCRIPTION:
URL:https://epiphanynyc.org/event/wednesday-night-dinner-program-2022-07-20-3-2/2028-03-08/
CATEGORIES:Featured Event
ATTACH;FMTTYPE=image/jpeg:https://epiphanynyc.org/wp-content/uploads/2022/06/card-image-1.jpg
END:VEVENT
BEGIN:VEVENT
DTSTART;TZID=UTC:20280315T180000
DTEND;TZID=UTC:20280315T193000
DTSTAMP:20260419T134228
CREATED:20241231T215607Z
LAST-MODIFIED:20241231T215628Z
UID:10000757-1836756000-1836761400@epiphanynyc.org
SUMMARY:Wednesday Night Dinner Program 2025
DESCRIPTION:
URL:https://epiphanynyc.org/event/wednesday-night-dinner-program-2022-07-20-3-2/2028-03-15/
CATEGORIES:Featured Event
ATTACH;FMTTYPE=image/jpeg:https://epiphanynyc.org/wp-content/uploads/2022/06/card-image-1.jpg
END:VEVENT
BEGIN:VEVENT
DTSTART;TZID=UTC:20280322T180000
DTEND;TZID=UTC:20280322T193000
DTSTAMP:20260419T134228
CREATED:20241231T215607Z
LAST-MODIFIED:20241231T215628Z
UID:10000758-1837360800-1837366200@epiphanynyc.org
SUMMARY:Wednesday Night Dinner Program 2025
DESCRIPTION:
URL:https://epiphanynyc.org/event/wednesday-night-dinner-program-2022-07-20-3-2/2028-03-22/
CATEGORIES:Featured Event
ATTACH;FMTTYPE=image/jpeg:https://epiphanynyc.org/wp-content/uploads/2022/06/card-image-1.jpg
END:VEVENT
BEGIN:VEVENT
DTSTART;TZID=UTC:20280329T180000
DTEND;TZID=UTC:20280329T193000
DTSTAMP:20260419T134228
CREATED:20241231T215607Z
LAST-MODIFIED:20241231T215628Z
UID:10000759-1837965600-1837971000@epiphanynyc.org
SUMMARY:Wednesday Night Dinner Program 2025
DESCRIPTION:
URL:https://epiphanynyc.org/event/wednesday-night-dinner-program-2022-07-20-3-2/2028-03-29/
CATEGORIES:Featured Event
ATTACH;FMTTYPE=image/jpeg:https://epiphanynyc.org/wp-content/uploads/2022/06/card-image-1.jpg
END:VEVENT
BEGIN:VEVENT
DTSTART;TZID=UTC:20280405T180000
DTEND;TZID=UTC:20280405T193000
DTSTAMP:20260419T134228
CREATED:20241231T215607Z
LAST-MODIFIED:20241231T215628Z
UID:10000760-1838570400-1838575800@epiphanynyc.org
SUMMARY:Wednesday Night Dinner Program 2025
DESCRIPTION:
URL:https://epiphanynyc.org/event/wednesday-night-dinner-program-2022-07-20-3-2/2028-04-05/
CATEGORIES:Featured Event
ATTACH;FMTTYPE=image/jpeg:https://epiphanynyc.org/wp-content/uploads/2022/06/card-image-1.jpg
END:VEVENT
BEGIN:VEVENT
DTSTART;TZID=UTC:20280412T180000
DTEND;TZID=UTC:20280412T193000
DTSTAMP:20260419T134228
CREATED:20241231T215607Z
LAST-MODIFIED:20241231T215628Z
UID:10000761-1839175200-1839180600@epiphanynyc.org
SUMMARY:Wednesday Night Dinner Program 2025
DESCRIPTION:
URL:https://epiphanynyc.org/event/wednesday-night-dinner-program-2022-07-20-3-2/2028-04-12/
CATEGORIES:Featured Event
ATTACH;FMTTYPE=image/jpeg:https://epiphanynyc.org/wp-content/uploads/2022/06/card-image-1.jpg
END:VEVENT
BEGIN:VEVENT
DTSTART;TZID=UTC:20280419T180000
DTEND;TZID=UTC:20280419T193000
DTSTAMP:20260419T134228
CREATED:20241231T215607Z
LAST-MODIFIED:20241231T215628Z
UID:10000762-1839780000-1839785400@epiphanynyc.org
SUMMARY:Wednesday Night Dinner Program 2025
DESCRIPTION:
URL:https://epiphanynyc.org/event/wednesday-night-dinner-program-2022-07-20-3-2/2028-04-19/
CATEGORIES:Featured Event
ATTACH;FMTTYPE=image/jpeg:https://epiphanynyc.org/wp-content/uploads/2022/06/card-image-1.jpg
END:VEVENT
BEGIN:VEVENT
DTSTART;TZID=UTC:20280426T180000
DTEND;TZID=UTC:20280426T193000
DTSTAMP:20260419T134228
CREATED:20241231T215607Z
LAST-MODIFIED:20241231T215628Z
UID:10000763-1840384800-1840390200@epiphanynyc.org
SUMMARY:Wednesday Night Dinner Program 2025
DESCRIPTION:
URL:https://epiphanynyc.org/event/wednesday-night-dinner-program-2022-07-20-3-2/2028-04-26/
CATEGORIES:Featured Event
ATTACH;FMTTYPE=image/jpeg:https://epiphanynyc.org/wp-content/uploads/2022/06/card-image-1.jpg
END:VEVENT
BEGIN:VEVENT
DTSTART;TZID=UTC:20280503T180000
DTEND;TZID=UTC:20280503T193000
DTSTAMP:20260419T134228
CREATED:20241231T215607Z
LAST-MODIFIED:20241231T215628Z
UID:10000764-1840989600-1840995000@epiphanynyc.org
SUMMARY:Wednesday Night Dinner Program 2025
DESCRIPTION:
URL:https://epiphanynyc.org/event/wednesday-night-dinner-program-2022-07-20-3-2/2028-05-03/
CATEGORIES:Featured Event
ATTACH;FMTTYPE=image/jpeg:https://epiphanynyc.org/wp-content/uploads/2022/06/card-image-1.jpg
END:VEVENT
BEGIN:VEVENT
DTSTART;TZID=UTC:20280510T180000
DTEND;TZID=UTC:20280510T193000
DTSTAMP:20260419T134228
CREATED:20241231T215607Z
LAST-MODIFIED:20241231T215628Z
UID:10000765-1841594400-1841599800@epiphanynyc.org
SUMMARY:Wednesday Night Dinner Program 2025
DESCRIPTION:
URL:https://epiphanynyc.org/event/wednesday-night-dinner-program-2022-07-20-3-2/2028-05-10/
CATEGORIES:Featured Event
ATTACH;FMTTYPE=image/jpeg:https://epiphanynyc.org/wp-content/uploads/2022/06/card-image-1.jpg
END:VEVENT
BEGIN:VEVENT
DTSTART;TZID=UTC:20280517T180000
DTEND;TZID=UTC:20280517T193000
DTSTAMP:20260419T134229
CREATED:20241231T215607Z
LAST-MODIFIED:20241231T215628Z
UID:10000825-1842199200-1842204600@epiphanynyc.org
SUMMARY:Wednesday Night Dinner Program 2025
DESCRIPTION:
URL:https://epiphanynyc.org/event/wednesday-night-dinner-program-2022-07-20-3-2/2028-05-17/
CATEGORIES:Featured Event
ATTACH;FMTTYPE=image/jpeg:https://epiphanynyc.org/wp-content/uploads/2022/06/card-image-1.jpg
END:VEVENT
BEGIN:VEVENT
DTSTART;TZID=UTC:20280524T180000
DTEND;TZID=UTC:20280524T193000
DTSTAMP:20260419T134229
CREATED:20241231T215607Z
LAST-MODIFIED:20241231T215628Z
UID:10000826-1842804000-1842809400@epiphanynyc.org
SUMMARY:Wednesday Night Dinner Program 2025
DESCRIPTION:
URL:https://epiphanynyc.org/event/wednesday-night-dinner-program-2022-07-20-3-2/2028-05-24/
CATEGORIES:Featured Event
ATTACH;FMTTYPE=image/jpeg:https://epiphanynyc.org/wp-content/uploads/2022/06/card-image-1.jpg
END:VEVENT
BEGIN:VEVENT
DTSTART;TZID=UTC:20280531T180000
DTEND;TZID=UTC:20280531T193000
DTSTAMP:20260419T134229
CREATED:20241231T215607Z
LAST-MODIFIED:20241231T215628Z
UID:10000827-1843408800-1843414200@epiphanynyc.org
SUMMARY:Wednesday Night Dinner Program 2025
DESCRIPTION:
URL:https://epiphanynyc.org/event/wednesday-night-dinner-program-2022-07-20-3-2/2028-05-31/
CATEGORIES:Featured Event
ATTACH;FMTTYPE=image/jpeg:https://epiphanynyc.org/wp-content/uploads/2022/06/card-image-1.jpg
END:VEVENT
BEGIN:VEVENT
DTSTART;TZID=UTC:20280607T180000
DTEND;TZID=UTC:20280607T193000
DTSTAMP:20260419T134229
CREATED:20241231T215607Z
LAST-MODIFIED:20241231T215628Z
UID:10000828-1844013600-1844019000@epiphanynyc.org
SUMMARY:Wednesday Night Dinner Program 2025
DESCRIPTION:
URL:https://epiphanynyc.org/event/wednesday-night-dinner-program-2022-07-20-3-2/2028-06-07/
CATEGORIES:Featured Event
ATTACH;FMTTYPE=image/jpeg:https://epiphanynyc.org/wp-content/uploads/2022/06/card-image-1.jpg
END:VEVENT
BEGIN:VEVENT
DTSTART;TZID=UTC:20280614T180000
DTEND;TZID=UTC:20280614T193000
DTSTAMP:20260419T134229
CREATED:20241231T215607Z
LAST-MODIFIED:20241231T215628Z
UID:10000829-1844618400-1844623800@epiphanynyc.org
SUMMARY:Wednesday Night Dinner Program 2025
DESCRIPTION:
URL:https://epiphanynyc.org/event/wednesday-night-dinner-program-2022-07-20-3-2/2028-06-14/
CATEGORIES:Featured Event
ATTACH;FMTTYPE=image/jpeg:https://epiphanynyc.org/wp-content/uploads/2022/06/card-image-1.jpg
END:VEVENT
BEGIN:VEVENT
DTSTART;TZID=UTC:20280621T180000
DTEND;TZID=UTC:20280621T193000
DTSTAMP:20260419T134229
CREATED:20241231T215607Z
LAST-MODIFIED:20241231T215628Z
UID:10000830-1845223200-1845228600@epiphanynyc.org
SUMMARY:Wednesday Night Dinner Program 2025
DESCRIPTION:
URL:https://epiphanynyc.org/event/wednesday-night-dinner-program-2022-07-20-3-2/2028-06-21/
CATEGORIES:Featured Event
ATTACH;FMTTYPE=image/jpeg:https://epiphanynyc.org/wp-content/uploads/2022/06/card-image-1.jpg
END:VEVENT
BEGIN:VEVENT
DTSTART;TZID=UTC:20280628T180000
DTEND;TZID=UTC:20280628T193000
DTSTAMP:20260419T134229
CREATED:20241231T215607Z
LAST-MODIFIED:20241231T215628Z
UID:10000831-1845828000-1845833400@epiphanynyc.org
SUMMARY:Wednesday Night Dinner Program 2025
DESCRIPTION:
URL:https://epiphanynyc.org/event/wednesday-night-dinner-program-2022-07-20-3-2/2028-06-28/
CATEGORIES:Featured Event
ATTACH;FMTTYPE=image/jpeg:https://epiphanynyc.org/wp-content/uploads/2022/06/card-image-1.jpg
END:VEVENT
BEGIN:VEVENT
DTSTART;TZID=UTC:20280705T180000
DTEND;TZID=UTC:20280705T193000
DTSTAMP:20260419T134229
CREATED:20241231T215607Z
LAST-MODIFIED:20241231T215628Z
UID:10000832-1846432800-1846438200@epiphanynyc.org
SUMMARY:Wednesday Night Dinner Program 2025
DESCRIPTION:
URL:https://epiphanynyc.org/event/wednesday-night-dinner-program-2022-07-20-3-2/2028-07-05/
CATEGORIES:Featured Event
ATTACH;FMTTYPE=image/jpeg:https://epiphanynyc.org/wp-content/uploads/2022/06/card-image-1.jpg
END:VEVENT
BEGIN:VEVENT
DTSTART;TZID=UTC:20280712T180000
DTEND;TZID=UTC:20280712T193000
DTSTAMP:20260419T134229
CREATED:20241231T215607Z
LAST-MODIFIED:20241231T215628Z
UID:10000833-1847037600-1847043000@epiphanynyc.org
SUMMARY:Wednesday Night Dinner Program 2025
DESCRIPTION:
URL:https://epiphanynyc.org/event/wednesday-night-dinner-program-2022-07-20-3-2/2028-07-12/
CATEGORIES:Featured Event
ATTACH;FMTTYPE=image/jpeg:https://epiphanynyc.org/wp-content/uploads/2022/06/card-image-1.jpg
END:VEVENT
BEGIN:VEVENT
DTSTART;TZID=UTC:20280719T180000
DTEND;TZID=UTC:20280719T193000
DTSTAMP:20260419T134229
CREATED:20241231T215607Z
LAST-MODIFIED:20241231T215628Z
UID:10000834-1847642400-1847647800@epiphanynyc.org
SUMMARY:Wednesday Night Dinner Program 2025
DESCRIPTION:
URL:https://epiphanynyc.org/event/wednesday-night-dinner-program-2022-07-20-3-2/2028-07-19/
CATEGORIES:Featured Event
ATTACH;FMTTYPE=image/jpeg:https://epiphanynyc.org/wp-content/uploads/2022/06/card-image-1.jpg
END:VEVENT
BEGIN:VEVENT
DTSTART;TZID=UTC:20280726T180000
DTEND;TZID=UTC:20280726T193000
DTSTAMP:20260419T134229
CREATED:20241231T215607Z
LAST-MODIFIED:20241231T215628Z
UID:10000835-1848247200-1848252600@epiphanynyc.org
SUMMARY:Wednesday Night Dinner Program 2025
DESCRIPTION:
URL:https://epiphanynyc.org/event/wednesday-night-dinner-program-2022-07-20-3-2/2028-07-26/
CATEGORIES:Featured Event
ATTACH;FMTTYPE=image/jpeg:https://epiphanynyc.org/wp-content/uploads/2022/06/card-image-1.jpg
END:VEVENT
BEGIN:VEVENT
DTSTART;TZID=UTC:20280802T180000
DTEND;TZID=UTC:20280802T193000
DTSTAMP:20260419T134229
CREATED:20241231T215607Z
LAST-MODIFIED:20241231T215628Z
UID:10000836-1848852000-1848857400@epiphanynyc.org
SUMMARY:Wednesday Night Dinner Program 2025
DESCRIPTION:
URL:https://epiphanynyc.org/event/wednesday-night-dinner-program-2022-07-20-3-2/2028-08-02/
CATEGORIES:Featured Event
ATTACH;FMTTYPE=image/jpeg:https://epiphanynyc.org/wp-content/uploads/2022/06/card-image-1.jpg
END:VEVENT
BEGIN:VEVENT
DTSTART;TZID=UTC:20280809T180000
DTEND;TZID=UTC:20280809T193000
DTSTAMP:20260419T134229
CREATED:20241231T215607Z
LAST-MODIFIED:20241231T215628Z
UID:10000837-1849456800-1849462200@epiphanynyc.org
SUMMARY:Wednesday Night Dinner Program 2025
DESCRIPTION:
URL:https://epiphanynyc.org/event/wednesday-night-dinner-program-2022-07-20-3-2/2028-08-09/
CATEGORIES:Featured Event
ATTACH;FMTTYPE=image/jpeg:https://epiphanynyc.org/wp-content/uploads/2022/06/card-image-1.jpg
END:VEVENT
BEGIN:VEVENT
DTSTART;TZID=UTC:20280816T180000
DTEND;TZID=UTC:20280816T193000
DTSTAMP:20260419T134229
CREATED:20241231T215607Z
LAST-MODIFIED:20241231T215628Z
UID:10000847-1850061600-1850067000@epiphanynyc.org
SUMMARY:Wednesday Night Dinner Program 2025
DESCRIPTION:
URL:https://epiphanynyc.org/event/wednesday-night-dinner-program-2022-07-20-3-2/2028-08-16/
CATEGORIES:Featured Event
ATTACH;FMTTYPE=image/jpeg:https://epiphanynyc.org/wp-content/uploads/2022/06/card-image-1.jpg
END:VEVENT
BEGIN:VEVENT
DTSTART;TZID=UTC:20280823T180000
DTEND;TZID=UTC:20280823T193000
DTSTAMP:20260419T134229
CREATED:20241231T215607Z
LAST-MODIFIED:20241231T215628Z
UID:10000848-1850666400-1850671800@epiphanynyc.org
SUMMARY:Wednesday Night Dinner Program 2025
DESCRIPTION:
URL:https://epiphanynyc.org/event/wednesday-night-dinner-program-2022-07-20-3-2/2028-08-23/
CATEGORIES:Featured Event
ATTACH;FMTTYPE=image/jpeg:https://epiphanynyc.org/wp-content/uploads/2022/06/card-image-1.jpg
END:VEVENT
BEGIN:VEVENT
DTSTART;TZID=UTC:20280830T180000
DTEND;TZID=UTC:20280830T193000
DTSTAMP:20260419T134230
CREATED:20241231T215607Z
LAST-MODIFIED:20241231T215628Z
UID:10000849-1851271200-1851276600@epiphanynyc.org
SUMMARY:Wednesday Night Dinner Program 2025
DESCRIPTION:
URL:https://epiphanynyc.org/event/wednesday-night-dinner-program-2022-07-20-3-2/2028-08-30/
CATEGORIES:Featured Event
ATTACH;FMTTYPE=image/jpeg:https://epiphanynyc.org/wp-content/uploads/2022/06/card-image-1.jpg
END:VEVENT
BEGIN:VEVENT
DTSTART;TZID=UTC:20280906T180000
DTEND;TZID=UTC:20280906T193000
DTSTAMP:20260419T134230
CREATED:20241231T215607Z
LAST-MODIFIED:20241231T215628Z
UID:10000850-1851876000-1851881400@epiphanynyc.org
SUMMARY:Wednesday Night Dinner Program 2025
DESCRIPTION:
URL:https://epiphanynyc.org/event/wednesday-night-dinner-program-2022-07-20-3-2/2028-09-06/
CATEGORIES:Featured Event
ATTACH;FMTTYPE=image/jpeg:https://epiphanynyc.org/wp-content/uploads/2022/06/card-image-1.jpg
END:VEVENT
BEGIN:VEVENT
DTSTART;TZID=UTC:20280913T180000
DTEND;TZID=UTC:20280913T193000
DTSTAMP:20260419T134230
CREATED:20241231T215607Z
LAST-MODIFIED:20241231T215628Z
UID:10000851-1852480800-1852486200@epiphanynyc.org
SUMMARY:Wednesday Night Dinner Program 2025
DESCRIPTION:
URL:https://epiphanynyc.org/event/wednesday-night-dinner-program-2022-07-20-3-2/2028-09-13/
CATEGORIES:Featured Event
ATTACH;FMTTYPE=image/jpeg:https://epiphanynyc.org/wp-content/uploads/2022/06/card-image-1.jpg
END:VEVENT
END:VCALENDAR